Workbook

Sheet BKU
A1: PEMERINTAH KOTA METRO
A2: BUKU KAS UMUM
A3: BENDAHARA PENGELUARAN
A6: SKPD | H6: : | I6: SATUAN POLISI PAMONG PRAJA
A7: BENDAHARA PENGELUARAN | H7: : | I7: SURITANANI
A9: No | B9: Tanggal | C9: Kode Rekening | O9: Uraian | P9: Penerimaan | Q9: Pengeluaran | R9: Saldo
A10: Urut
A11: 1 | B11: 2 | C11: 3 | O11: 4 | P11: 5 | Q11: 6 | R11: 7
O13: Saldo Pindahan Bulan Lalu ………………… | P13: =[1]BKU!$P$227 -> 6483849877 | Q13: =[1]BKU!$Q$227 -> 6477075076 | R13: =P13-Q13 -> 6774801
A15: 1 | B15: 46175 | O15: Diterima SP2D LS NO 18.72/03.0/000082/LS/1.05.0.00.0.00
O16: .0.0000/P1/4/2026 Tanggal 22 Mei 2026. Pembayaran
O17: Gaji dan Tunjangan Pegawai (Gaji P3K Bulan Juni 2026)
O18: untuk 7 Pegawai / 21 Jiwa (Rincian : 7 Jiwa / 6 Istri-Suami 8
O19: Anak) Satpol PP Kota Metro | P19: 23064376 | Q19: 0
A21: 2 | B21: 46175 | I21: 5 | J21: 1 | K21: 1 | L21: 01 | M21: 01 | N21: 0002 | O21: Belanja Gaji Pokok PPPK | P21: 0 | Q21: 18272600
A22: 3 | B22: 46175 | I22: 5 | J22: 1 | K22: 1 | L22: 01 | M22: 02 | N22: 0002 | O22: Belanja Tunajngan Keluarga PPPK | P22: 0 | Q22: 2005634
A23: 4 | B23: 46175 | I23: 5 | J23: 1 | K23: 1 | L23: 01 | M23: 05 | N23: 0002 | O23: Belanja Tunjangan Fungsional Umum PPPK | P23: 0 | Q23: 1265000
A24: 5 | B24: 46175 | I24: 5 | J24: 1 | K24: 1 | L24: 01 | M24: 06 | N24: 0002 | O24: Belanja Tunjangan Beras PPPK | P24: 0 | Q24: 1520820
A25: 6 | B25: 46175 | I25: 5 | J25: 1 | K25: 1 | L25: 01 | M25: 08 | N25: 0002 | O25: Dibayar Belanja Pembulatan Gaji PPPK | P25: 0 | Q25: 322
A27: 7 | B27: 46175 | O27: Diterima SP2D LS NO 18.72/03.0/000081/LS/1.05.0.00.0.00
O28: 02.0000/P1/3/2026 Tanggal 22 Mei 2026 Belanja
O29: Pembayaran Gaji dan Tunjangan Pegawai Bulan Juni 2026
O30: untuk 80 Pegawai/267 Jiwa
O31: (Rincian : 80 Jiwa/65 Istri/122 Anak ) | P31: 420570135 | Q31: 0
A33: 8 | B33: 46175 | I33: 5 | J33: 1 | K33: 1 | L33: 01 | M33: 01 | N33: 0001 | O33: Dibayar Belanja Gaji Poko PNS | P33: 0 | Q33: 314315600
A34: 9 | B34: 46175 | I34: 5 | J34: 1 | K34: 1 | L34: 01 | M34: 02 | N34: 0001 | O34: Dibayar Belanja Tunjangan Keluarga PNS | P34: 0 | Q34: 35481116
A35: 10 | B35: 46175 | I35: 5 | J35: 1 | K35: 1 | L35: 01 | M35: 03 | N35: 0001 | O35: Dibayar Belanja Tunjangan Jabatan PNS | P35: 0 | Q35: 9465000
A36: 11 | B36: 46175 | I36: 5 | J36: 1 | K36: 1 | L36: 01 | M36: 04 | N36: 0001 | O36: Dibayar Belanja Tunjangan Fungsional PNS | P36: 0 | Q36: 40470000
A37: 12 | B37: 46175 | I37: 5 | J37: 1 | K37: 1 | L37: 01 | M37: 05 | N37: 0001 | O37: Dibayar Belanja Tunjangan Fungsional Umum PNS | P37: 0 | Q37: 1080000
A38: 13 | B38: 46175 | I38: 5 | J38: 1 | K38: 1 | L38: 01 | M38: 06 | N38: 0001 | O38: Dibayar Belanja Tunjangan Beras PNS | P38: 0 | Q38: 19336140
A39: 14 | B39: 46175 | I39: 5 | J39: 1 | K39: 1 | L39: 01 | M39: 07 | N39: 0001 | O39: Dibayar Belanja Tunjangan PPH/Tunjangan Khusus PNS | P39: 0 | Q39: 418374
A40: 15 | B40: 46175 | I40: 5 | J40: 1 | K40: 1 | L40: 01 | M40: 08 | N40: 0001 | O40: Dibayar Belanja Pembulatan Gaji | P40: 0 | Q40: 3905
A42: 16 | B42: 46175 | O42: Dipungut PPH Psal 21 atas Belanja Gaji dan Tunjangan
O43: PNS Bulan Juini 2026 | P43: 418374 | Q43: 0
A45: 17 | B45: 46175 | O45: Dibayar PPH Psal 21 atas Belanja Gaji dan Tunjangan
O46: PNS Bulan Juini 2026 | P46: 0 | Q46: 418374
A48: 18 | B48: 46161 | O48: Diterima SP2D LS NO 18.72/03.0/000077/LS/1.05.0.00.0.00
O49: 02.0000/P2/5/2026 Tanggal 19 Mei 2026. Belanja
O50: PemeliharaanKomputer-Peralatan Komputer-Peralatan
O51: Komputer Lainnya (Servis Printer), Sub kegiatan
...

Sheet B Pajak
A1: PEMERINTAH KOTA METRO
A2: BUKU PEMBANTU PAJAK
A3: Bulan : JANUARI 2026
A4: SKPD | D4: : SATUAN POLISI PAMONG PRAJA
A5: PENGGUNA ANGGARAN | D5: : JOSE SARMENTO PIEDADE, S. STP., MH.
A6: BENDAHARA PENGELUARAN | D6: SURITANANI
A8: PENERIMAAN | J8: PENYETORAN
A9: No | B9: Tanggal | C9: Uraian Penerimaan | E9: PPN | F9: PPh 21 | G9: PPh 22 | H9: PPh 23 | I9: Jumlah | J9: No | K9: Tanggal | L9: Uraian Penyetoran | M9: PPN | N9: PPh 21 | O9: PPh 22 | P9: PPh 23 | Q9: Jumlah
A11: 1 | B11: 46146 | C11: Dipungut pajak atas | J11: 1 | K11: 46146 | L11: Dibayar Pajak atas Pembayaran
C12: pembayaran Gaji dan | L12: Gaji dan Tunjangan Pegawai
C13: Tunjangan Pegawai | L13: Bulan Mei 2026 | M13: 0 | N13: 418374 | O13: 0 | P13: 0 | Q13: =SUM(M13:P13) -> 418374
C14: (Bulan Mei 2026) | E14: 0 | F14: 418374 | G14: 0 | H14: 0 | I14: =SUM(E14:E14:H14) -> 418374
J15: 2 | K15: 46147 | L15: Dibayar Pajak atas Belanja
A16: 2 | B16: 46147 | C16: Dipungut Pajak atas | L16: Jasa Tenaga Ketentraman,
C17: Belanja Jasa Tenaga | L17: Ketertiban Umum, dan
C18: Ketentraman, Ketertiban | L18: Perlindungan Masyarakat | M18: 0 | N18: 270000 | O18: 0 | P18: 0 | Q18: =SUM(M18:P18) -> 270000
C19: Umum, dan Perlindungan
C20: Masyarakat | E20: 0 | F20: 270000 | G20: 0 | H20: 0 | I20: =SUM(E20:H20) -> 270000 | J20: 3 | K20: 46161 | L20: Dibayar Pajak atas Belanja
L21: tambahan Penghasilan
A22: 3 | B22: 46161 | C22: Dipungut Pajak atas | L22: PNS Bulan April 2026 | M22: 0 | N22: 11426813 | O22: 0 | P22: 0 | Q22: =SUM(M22:P22) -> 11426813
C23: Tambahan Penghasilan
C24: PNS Bulan April 2026 | E24: 0 | F24: 11426813 | G24: 0 | H24: 0 | I24: =SUM(E24:H24) -> 11426813 | J24: 4 | K24: 46167 | L24: Dibayar Pajak atas Belanja
L25: Jasa Tenaga Ketentraman,
A26: 4 | B26: 46167 | C26: Dipungut Pajak atas | L26: Ketertiban Umum, dan
C27: Belanja Jasa Tenaga | L27: Perlindungan Masyarakat | M27: 0 | N27: 661000 | O27: 0 | P27: 0 | Q27: =SUM(M27:P27) -> 661000
C28: Ketentraman, Ketertiban
C29: Umum, dan Perlindungan
C30: Masyarakat | E30: 0 | F30: 661000 | G30: 0 | H30: 0 | I30: =SUM(E30:H30) -> 661000
B49: Jumlah Penerimaan Bulan ini ……………… | E49: =SUM(E11:E48) -> 0 | F49: =SUM(F11:F48) -> 12776187 | G49: =SUM(G11:G48) -> 0 | H49: =SUM(H11:H48) -> 0 | I49: =SUM(E49:H49) -> 12776187 | K49: Jumlah Penyetoran Bulan ini………………… | M49: =SUM(M11:M48) -> 0 | N49: =SUM(N11:N48) -> 12776187 | O49: =SUM(O11:O48) -> 0 | P49: =SUM(P11:P48) -> 0 | Q49: =SUM(M49:P49) -> 12776187
B50: Jumlah Penerimaan Bulan Lalu …………… | E50: 0 | F50: 33096201 | G50: 0 | H50: 0 | I50: =SUM(E50:H50) -> 33096201 | K50: Jumlah Penerimaan Bulan Lalu …………… | M50: 0 | N50: 33096201 | O50: 0 | P50: 0 | Q50: =SUM(M50:P50) -> 33096201
B51: Jumlah Penerimaan s.d bulan ini ………… | E51: =SUM(E49:E50) -> 0 | F51: =SUM(F49:F50) -> 45872388 | G51: =SUM(G49:G50) -> 0 | H51: =SUM(H49:H50) -> 0 | I51: =SUM(I49:I50) -> 45872388 | K51: Jumlah Penerimaan s.d bulan ini ………… | M51: =SUM(M49:M50) -> 0 | N51: =SUM(N49:N50) -> 45872388 | O51: =SUM(O49:O50) -> 0 | P51: =SUM(P49:P50) -> 0 | Q51: =SUM(Q49:Q50) -> 45872388
B52: Jumlah yang belum disetor ………………… | Q52: =I51-Q51 -> 0
N54: =BKU!Q285 -> Metro, 31 Mei 2026
G55: Mengetahui,
G56: PENGGUNA ANGGARAN | N56: BENDAHARA PENGELUARAN
G60: ='[2]Tu2P Kas'!C48 -> JOSE SARMENTO PIEDADE, S. STP., MH. | N60: =[2]BKU!Q77 -> SURITANANI
G61: ='[2]Tu2P Kas'!C49 -> NIP. 19780210 199810 1 002 | N61: =[2]BKU!Q78 -> NIP. 19730603 200902 2 0002
K71: 44194 | L71: Disetor ke Bank Lampung Metro
L72: pajak atas honorarium PPTK
L73: kegiatan peningkatan rasa nasio
...

Sheet Tu2P Kas
A2: PEMERINTAH KOTA METRO
A3: LAPORAN PENUTUPAN KAS BULANAN
A4: Nomor Tahun 2026
A7: Kepada Yth,
A8: Kepala BPKAD Kota Metro
A9: di -
A10: TEMPAT
A14: Dengan memperhatikan Peraturan Walikota Metro No. .... Tahun ...... mengenai Sistem dan Prosedur Penatausahaan Keuangan Pemerintah Kota Metro, bersama ini kami sampaikan Laporan Penutupan Kas Bulanan yang terdapat di Bendahara Pengeluaran OPD Satuan Polisi Pamong Praja Kota Metro sejumlah Rp. NIHIL dengan perincian sebagai berikut :
A16: A. | B16: Kas di Bendahara Pengeluaran
B17: A.1 | C17: Saldo awal bulan tanggal | D17: =BKU!B54 -> 0 | E17: =[2]BKU!R13 -> 0
B18: A.2 | C18: Jumlah Penerimaan | E18: =BKU!P277 -> 8134691415
B19: A.3 | C19: Jumlah Pengeluaran | E19: =BKU!Q277 -> 8127916614
B20: A.4 | C20: Saldo Akhir bulan tanggal | E20: =E18-E19 -> 6774801
B21: Saldo akhir bulan tanggal | D21: =D17+18 -> 18 | E21: terdiri dari saldo di kas tunai sebesar | G21: 0
B22: dan saldo di bank sebesar | D22: =[2]BKU!D69:L69 -> 0
A24: B. | B24: Kas di Bendahara Pengeluaran Pembantu
B25: B.1 | C25: Saldo awal bulan tanggal …. | D25: =BKU!B54 -> 0 | E25: =BKU!R13 -> 6774801
B26: B.2 | C26: Jumlah Penerimaan | E26: =BKU!P277 -> 8134691415
B27: B.3 | C27: Jumlah Pengeluaran | E27: =BKU!Q277 -> 8127916614
B28: B.4 | C28: Saldo Akhir bulan tanggal | E28: =BKU!R277 -> 6774801
B29: Saldo akhir bulan tanggal | E29: terdiri dari saldo di kas tunai sebesar | G29: 0
B30: dan saldo di bank sebesar | D30: 0
A32: C. | B32: Rekapitulasi Posisi Kas di Bendahara Pengeluaran
B33: C.1 | C33: Saldo di Kas Tunai | E33: 0
B34: C.2 | C34: Saldo di Bank | E34: =[2]BKU!R63 -> 0
B35: C.3 | C35: Saldo Total | E35: =SUM(E33:E34) -> 0
F41: =BKU!Q285 -> Metro, 31 Mei 2026
B42: Mengetahui ;
B43: Pengguna Anggaran | F43: =[2]BKU!Q73 -> Bendahara Pengeluaran
B48: =[2]BKU!J77 -> JOSE SARMENTO PIEDADE, S. STP., MH. | F48: =[2]BKU!Q77 -> SURITANANI
B49: =[2]BKU!J78 -> NIP. 19780210 199810 1 002 | F49: =[2]BKU!Q78 -> NIP. 19730603 200902 2 0002

Sheet Fungsional FIX
I2: PEMERINTAH KOTA METRO
I3: SURAT PENGESAHAN PERTANGGUNGJAWABAN BENDAHARA PENGELUARAN
I4: ( SPJ BELANJA )
A8: Kode Rekening | L8: Uraian | M8: Jumlah Anggaran | N8: SPJ - LS | Q8: SPJ - LS Barang & Jasa *) | T8: SPJ - UP/GU/TU | W8: Jumlah SPJ | X8: Sisa Pagu
N9: s.d | O9: Bulan ini | P9: s.d | Q9: s.d | R9: Bulan ini | S9: s.d | T9: s.d | U9: Bulan ini | V9: s.d | W9: (LS+UP/GU/TU) | X9: Anggaran
N10: Bulan lalu | P10: Bulan ini | Q10: Bulan lalu | S10: Bulan ini | T10: Bulan lalu | V10: Bulan ini | W10: s.d bulan ini
A11: 1 | L11: 2 | M11: 3 | N11: 4 | O11: 5 | P11: 6 (4+5) | Q11: 7 | R11: 8 | S11: 9 (7+8) | T11: 10 | U11: 11 | V11: 12 (10+11) | W11: 13 (6+9+12) | X11: 14 (3-13)
B12: 1 | L12: URUSAN PEMERINTAHAN WAJIB YANG BERKAITAN DENGAN PELAYANAN DASAR | M12: =M13 -> 14620733459 | N12: =N13 -> 4195364607 | O12: =O13 -> 1059128159 | P12: =N12+O12 -> 5254492766 | Q12: =Q13 -> 2283106562 | R12: =R13 -> 577900687 | S12: =Q12+R12 -> 2861007249 | T12: =T13 -> 3730119 | U12: =U13 -> 0 | V12: =T12+U12 -> 3730119 | W12: =P12+S12+V12 -> 8119230134 | X12: =M12-W12 -> 6501503325
A13: 1 | B13: 05 | L13: URUSAN PEMERINTAHAN BIDANG KETENTERAMAN DAN KETERTIBAN UMUM SERTA PERLINDUNGAN MASYARAKAT | M13: =M14+M303 -> 14620733459 | N13: =N14+N303 -> 4195364607 | O13: =O14+O303 -> 1059128159 | P13: =N13+O13 -> 5254492766 | Q13: =Q14+Q303 -> 2283106562 | R13: =R14+R303 -> 577900687 | S13: =Q13+R13 -> 2861007249 | T13: =T14+T303 -> 3730119 | U13: =U14+U303 -> 0 | V13: =T13+U13 -> 3730119 | W13: =P13+S13+V13 -> 8119230134 | X13: =M13-W13 -> 6501503325
A14: 1 | B14: 05 | C14: 01 | L14: Program Penunjang Urusan Pemerintahan Daerah Kabupaten/Kota | M14: =M15+M60+M120+M148+M210+M246+M264 -> 13126557459 | N14: =N15+N60+N120+N148+N210+N246+N264 -> 4195364607 | O14: =O15+O60+O120+O148+O210+O246+O264 -> 1059128159 | P14: =N14+O14 -> 5254492766 | Q14: =Q15+Q60+Q120+Q148+Q210+Q246+Q264 -> 1900761562 | R14: =R15+R60+R120+R148+R210+R246+R264 -> 509820687 | S14: =Q14+R14 -> 2410582249 | T14: =T15+T60+T120+T148+T210+T246+T264 -> 3730119 | U14: =U15+U60+U120+U148+U210+U246+U264 -> 0 | V14: =T14+U14 -> 3730119 | W14: =W15+W60+W120+W148 -> 7521780363 | X14: =M14-W14 -> 5604777096
A15: 1 | B15: 05 | C15: 01 | D15: 2 | E15: 01 | L15: Perencanaan,Penganggaran, dan Evaluasi Kinerja Perangkat Daerah | M15: =M16+M30+M41+M50 -> 0 | N15: =N16+N30+N41+N50 -> 0 | O15: =O16+O30+O41+O50 -> 0 | P15: =N15+O15 -> 0 | Q15: =Q16+Q30+Q41+Q50 -> 0 | R15: =R16+R30+R41+R50 -> 0 | S15: =Q15+R15 -> 0 | T15: =T16+T30+T41+T50 -> 0 | U15: =U16+U30+U41+U50 -> 0 | V15: =T15+U15 -> 0 | W15: =P15+S15+V15 -> 0 | X15: =M15-W15 -> 0
A16: 1 | B16: 05 | C16: 01 | D16: 2 | E16: 01 | F16: 01 | L16: Penyusunan Dokumen Perencanaan Perangkat Daerah | M16: =M17 -> 0 | N16: =N17 -> 0 | O16: =O17 -> 0 | P16: =N16+O16 -> 0 | Q16: =Q17 -> 0 | R16: =R17 -> 0 | S16: =Q16+R16 -> 0 | T16: =T17 -> 0 | U16: =U17 -> 0 | V16: =T16+U16 -> 0 | W16: =P16+S16+V16 -> 0 | X16: =M16-W16 -> 0
A17: 1 | B17: 05 | C17: 01 | D17: 2 | E17: 01 | F17: 01 | G17: 05.01 | L17: Belanja Operasi | M17: =M18 -> 0 | N17: =N18 -> 0 | O17: =O18 -> 0 | P17: =N17+O17 -> 0 | Q17: =Q18 -> 0 | R17: =R18 -> 0 | S17: =Q17+R17 -> 0 | T17: =T18 -> 0 | U17: =U18 -> 0 | V17: =T17+U17 -> 0 | W17: =P17+S17+V17 -> 0 | X17: =M17-W17 -> 0
A18: 1 | B18: 05 | C18: 01 | D18: 2 | E18: 01 | F18: 01 | G18: 0.20903935 | L18: Belanja Pegawai | M18: =M19+M23 -> 0 | N18: =N19+N23 -> 0 | O18: =O19+O23 -> 0 | P18: =N18+O18 -> 0 | Q18: =Q19+Q23 -> 0 | R18: =R19+R23 -> 0 | S18: =Q18+R18 -> 0 | T18: =T19+T23 -> 0 | U18: =U19+U23 -> 0 | V18: =T18+U18 -> 0 | W18: =P18+S18+V18 -> 0 | X18: =M18-W18 -> 0
A19: 1 | B19: 05 | C19: 01 | D19: 2 | E19: 01 | F19: 01 | G19: 05.01.01.03 | L19: Tambahan Penghasilan berdasarkan Pertimbangan Objektif lainnya ASN | M19: =M20 -> 0 | N19: =N20 -> 0 | O19: =O20 -> 0 | P19: =N19+O19 -> 0 | Q19: =Q20 -> 0 | R19: =R20 -> 0 | S19: =Q19+R19 -> 0 | T19: =T20 -> 0 | U19: =U20 -> 0 | V19: =T19+U19 -> 0 | W19: =P19+S19+V19 -> 0 | X19: =M19-W19 -> 0
A20: 1 | B20: 05 | C20: 01 | D20: 2 | E20: 01 | F20: 01 | G20: 05.01.01.03.07 | L20: Belanja Honorarium | M20: =M21 -> 0 | N20: =N21 -> 0 | O20: =O21 -> 0 | P20: =N20+O20 -> 0 | Q20: =Q21 -> 0 | R20: =R21 -> 0 | S20: =Q20+R20 -> 0 | T20: =T21 -> 0 | U20: =U21 -> 0 | V20: =T20+U20 -> 0 | W20: =P20+S20+V20 -> 0 | X20: =M20-W20 -> 0
A21: 1 | B21: 05 | C21: 01 | D21: 2 | E21: 01 | F21: 01 | G21: 05.01.01.03.07.0001 | L21: Belanja Penanggungjawab Pengelola Keuangan | M21: 0 | N21: 0 | O21: 0 | P21: =N21+O21 -> 0 | Q21: 0 | R21: 0 | S21: =Q21+R21 -> 0 | T21: 0 | U21: 0 | V21: =T21+U21 -> 0 | W21: =P21+S21+V21 -> 0 | X21: =M21-W21 -> 0
A23: 1 | B23: 05 | C23: 01 | D23: 2 | E23: 01 | F23: 01 | G23: 0.20905093 | L23: Belanja Barang dan Jasa | M23: =M24 -> 0 | N23: =N24 -> 0 | O23: =O24 -> 0 | P23: =N23+O23 -> 0 | Q23: =Q24 -> 0 | R23: =R24 -> 0 | S23: =Q23+R23 -> 0 | T23: =T24 -> 0 | U23: =U24 -> 0 | V23: =T23+U23 -> 0 | W23: =P23+S23+V23 -> 0 | X23: =M23-W23 -> 0
A24: 1 | B24: 05 | C24: 01 | D24: 2 | E24: 01 | F24: 01 | G24: 05.01.02.01. | L24: Belanja Barang | M24: =SUM(M26:M28) -> 0 | N24: =SUM(N26:N28) -> 0 | O24: =SUM(O26:O28) -> 0 | P24: =N24+O24 -> 0 | Q24: =SUM(Q26:Q28) -> 0 | R24: =SUM(R26:R28) -> 0 | S24: =Q24+R24 -> 0 | T24: =SUM(T26:T28) -> 0 | U24: =SUM(U26:U28) -> 0 | V24: =T24+U24 -> 0 | W24: =SUM(W26:W28) -> 0 | X24: =SUM(X26:X28) -> 0
A25: 1 | B25: 05 | C25: 01 | D25: 2 | E25: 01 | F25: 01 | G25: 05.01.02.01.01 | L25: Belanja Barang Pakai Habis | M25: =SUM(M26:M28) -> 0 | N25: =SUM(N26:N28) -> 0 | O25: =SUM(O26:O28) -> 0 | P25: =N25+O25 -> 0 | Q25: =SUM(Q26:Q28) -> 0 | R25: =SUM(R26:R28) -> 0 | S25: =Q25+R25 -> 0 | T25: =SUM(T26:T28) -> 0 | U25: =SUM(U26:U28) -> 0 | V25: =T25+U25 -> 0 | W25: =SUM(W26:W28) -> 0 | X25: =SUM(X26:X28) -> 0
A26: 1 | B26: 05 | C26: 01 | D26: 2 | E26: 01 | F26: 01 | G26: 05.01.02.01.01.0024 | L26: Belanja Alat Tulis Kantor | M26: 0 | N26: 0 | O26: 0 | P26: =N26+O26 -> 0 | Q26: 0 | R26: 0 | S26: =Q26+R26 -> 0 | T26: 0 | U26: 0 | V26: =T26+U26 -> 0 | W26: =P26+S26+V26 -> 0 | X26: =M26-W26 -> 0
A27: 1 | B27: 05 | C27: 01 | D27: 2 | E27: 01 | F27: 01 | G27: 05.01.02.01.01.0026 | L27: Belanja Alat/Bahan untuk Kegiatan Kantor- Bahan Cetak | M27: 0 | N27: 0 | O27: 0 | P27: =N27+O27 -> 0 | Q27: 0 | R27: 0 | S27: =Q27+R27 -> 0 | T27: 0 | U27: 0 | V27: =T27+U27 -> 0 | W27: =P27+S27+V27 -> 0 | X27: =M27-W27 -> 0
A28: 1 | B28: 05 | C28: 01 | D28: 2 | E28: 01 | F28: 01 | G28: 05.01.02.01.01.0027 | L28: Belanja Alat/Bahan untuk Kegiatan Kantor-Benda Pos | M28: 0 | N28: 0 | O28: 0 | P28: =N28+O28 -> 0 | Q28: 0 | R28: 0 | S28: =Q28+R28 -> 0 | T28: 0 | U28: 0 | V28: =T28+U28 -> 0 | W28: =P28+S28+V28 -> 0 | X28: =M28-W28 -> 0
A30: 1 | B30: 05 | C30: 01 | D30: 2 | E30: 01 | F30: 02 | L30: Kordinasi dan Penyusunan Dokumen RKA-SKPD | M30: =M31 -> 0 | N30: =N31 -> 0 | O30: =O31 -> 0 | P30: =N30+O30 -> 0 | Q30: =Q31 -> 0 | R30: =R31 -> 0 | S30: =Q30+R30 -> 0 | T30: =T31 -> 0 | U30: =U31 -> 0 | V30: =T30+U30 -> 0 | W30: =P30+S30+V30 -> 0 | X30: =M30-W30 -> 0
A31: 1 | B31: 05 | C31: 01 | D31: 2 | E31: 01 | F31: 02 | G31: 05.01 | L31: Belanja Operasi | M31: =M32+M37 -> 0 | N31: =N32+N37 -> 0 | O31: =O32+O37 -> 0 | P31: =N31+O31 -> 0 | Q31: =Q32+Q37 -> 0 | R31: =R32+R37 -> 0 | S31: =Q31+R31 -> 0 | T31: =T32+T37 -> 0 | U31: =U32+U37 -> 0 | V31: =T31+U31 -> 0 | W31: =P31+S31+V31 -> 0 | X31: =M31-W31 -> 0
A32: 1 | B32: 05 | C32: 01 | D32: 2 | E32: 01 | F32: 02 | G32: 05.01.02 | L32: Belanja Barang dan Jasa | M32: =M33 -> 0 | N32: =N33 -> 0 | O32: =O33 -> 0 | P32: =N32+O32 -> 0 | Q32: =Q33 -> 0 | R32: =R33 -> 0 | S32: =Q32+R32 -> 0 | T32: =T33 -> 0 | U32: =U33 -> 0 | V32: =T32+U32 -> 0 | W32: =P32+S32+V32 -> 0 | X32: =M32-W32 -> 0
A33: 1 | B33: 05 | C33: 01 | D33: 2 | E33: 01 | F33: 02 | G33: 05.01.02.01 | L33: Belanja Barang | M33: =M34 -> 0 | N33: =N34 -> 0 | O33: =O34 -> 0 | P33: =N33+O33 -> 0 | Q33: =Q34 -> 0 | R33: =R34 -> 0 | S33: =Q33+R33 -> 0 | T33: =T34 -> 0 | U33: =U34 -> 0 | V33: =T33+U33 -> 0 | W33: =P33+S33+V33 -> 0 | X33: =M33-W33 -> 0
A34: 1 | B34: 05 | C34: 01 | D34: 2 | E34: 01 | F34: 02 | G34: 05.01.02.01.01 | L34: Belanja Barang Pakai Habis | M34: =M35 -> 0 | N34: =N35 -> 0 | O34: =O35 -> 0 | P34: =N34+O34 -> 0 | Q34: =Q35 -> 0 | R34: =R35 -> 0 | S34: =Q34+R34 -> 0 | T34: =T35 -> 0 | U34: =U35 -> 0 | V34: =T34+U34 -> 0 | W34: =P34+S34+V34 -> 0 | X34: =M34-W34 -> 0
A35: 1 | B35: 05 | C35: 01 | D35: 2 | E35: 01 | F35: 02 | G35: 05.01.02.01.01.0026 | L35: Belanja Alat/Bahan untuk Kegiatan Kantor- Bahan Cetak | M35: 0 | N35: 0 | O35: 0 | P35: =N35+O35 -> 0 | Q35: 0 | R35: 0 | S35: =Q35+R35 -> 0 | T35: 0 | U35: 0 | V35: =T35+U35 -> 0 | W35: =P35+S35+V35 -> 0 | X35: =M35-W35 -> 0
A37: 1 | B37: 05 | C37: 01 | D37: 2 | E37: 01 | F37: 02 | G37: 05.01.02.02 | L37: Belanja Jasa | M37: =M38 -> 0 | N37: =N38 -> 0 | O37: =O38 -> 0 | P37: =N37+O37 -> 0 | Q37: =Q38 -> 0 | R37: =R38 -> 0 | S37: =Q37+R37 -> 0 | T37: =T38 -> 0 | U37: =U38 -> 0 | V37: =T37+U37 -> 0 | W37: =P37+S37+V37 -> 0 | X37: =M37-W37 -> 0
A38: 1 | B38: 05 | C38: 01 | D38: 2 | E38: 01 | F38: 02 | G38: 05.01.02.02.01 | L38: Belanja Jasa Kantor | M38: =M39 -> 0 | N38: =N39 -> 0 | O38: =O39 -> 0 | P38: =N38+O38 -> 0 | Q38: =Q39 -> 0 | R38: =R39 -> 0 | S38: =Q38+R38 -> 0 | T38: =T39 -> 0 | U38: =U39 -> 0 | V38: =T38+U38 -> 0 | W38: =P38+S38+V38 -> 0 | X38: =M38-W38 -> 0
A39: 1 | B39: 05 | C39: 01 | D39: 2 | E39: 01 | F39: 02 | G39: 05.01.02.02.01.0071 | L39: Belanja Lembur | M39: 0 | N39: 0 | O39: 0 | P39: =N39+O39 -> 0 | Q39: 0 | R39: 0 | S39: =Q39+R39 -> 0 | T39: 0 | U39: 0 | V39: =T39+U39 -> 0 | W39: =P39+S39+V39 -> 0 | X39: =M39-W39 -> 0
A41: 1 | B41: 05 | C41: 01 | D41: 2 | E41: 01 | F41: 06 | L41: Koordinasi dan Penyusunan Laporan Capaian Kinerja dan Ikhtisar Realisasi Kinerja SKPD | M41: =M42 -> 0 | N41: =N42 -> 0 | O41: =O42 -> 0 | P41: =N41+O41 -> 0 | Q41: =Q42 -> 0 | R41: =R42 -> 0 | S41: =Q41+R41 -> 0 | T41: =T42 -> 0 | U41: =U42 -> 0 | V41: =T41+U41 -> 0 | W41: =P41+S41+V41 -> 0 | X41: =M41-W41 -> 0
A42: 1 | B42: 05 | C42: 01 | D42: 2 | E42: 01 | F42: 06 | G42: 05.01 | L42: Belanja Operasi | M42: =M43 -> 0 | N42: =N43 -> 0 | O42: =O43 -> 0 | P42: =N42+O42 -> 0 | Q42: =Q43 -> 0 | R42: =R43 -> 0 | S42: =Q42+R42 -> 0 | T42: =T43 -> 0 | U42: =U43 -> 0 | V42: =T42+U42 -> 0 | W42: =P42+S42+V42 -> 0 | X42: =M42-W42 -> 0
A43: 1 | B43: 05 | C43: 01 | D43: 2 | E43: 01 | F43: 06 | G43: 05.01.02 | L43: Belanja Barang dan Jasa | M43: =M44 -> 0 | N43: =N44 -> 0 | O43: =O44 -> 0 | P43: =N43+O43 -> 0 | Q43: =Q44 -> 0 | R43: =R44 -> 0 | S43: =Q43+R43 -> 0 | T43: =T44 -> 0 | U43: =U44 -> 0 | V43: =T43+U43 -> 0 | W43: =P43+S43+V43 -> 0 | X43: =M43-W43 -> 0
A44: 1 | B44: 05 | C44: 01 | D44: 2 | E44: 01 | F44: 06 | G44: 05.01.02.01 | L44: Belanja Barang | M44: =M45 -> 0 | N44: =N45 -> 0 | O44: =O45 -> 0 | P44: =N44+O44 -> 0 | Q44: =Q45 -> 0 | R44: =R45 -> 0 | S44: =Q44+R44 -> 0 | T44: =T45 -> 0 | U44: =U45 -> 0 | V44: =T44+U44 -> 0 | W44: =P44+S44+V44 -> 0 | X44: =M44-W44 -> 0
A45: 1 | B45: 05 | C45: 01 | D45: 2 | E45: 01 | F45: 06 | G45: 05.01.02.01.01 | L45: Belanja Barang Pakai Habis | M45: =SUM(M46:M48) -> 0 | N45: =SUM(N46:N48) -> 0 | O45: =SUM(O46:O48) -> 0 | P45: =N45+O45 -> 0 | Q45: =SUM(Q46:Q48) -> 0 | R45: =SUM(R46:R48) -> 0 | S45: =Q45+R45 -> 0 | T45: =SUM(T46:T48) -> 0 | U45: =SUM(U46:U48) -> 0 | V45: =T45+U45 -> 0 | W45: =P45+S45+V45 -> 0 | X45: =M45-W45 -> 0
A46: 1 | B46: 05 | C46: 01 | D46: 2 | E46: 01 | F46: 06 | G46: 05.01.02.01.01.0024 | L46: Alat Tulis Kantor | M46: 0 | N46: 0 | O46: 0 | P46: =N46+O46 -> 0 | Q46: 0 | R46: 0 | S46: =Q46+R46 -> 0 | T46: 0 | U46: 0 | V46: =T46+U46 -> 0 | W46: =P46+S46+V46 -> 0 | X46: =M46-W46 -> 0
A47: 1 | B47: 05 | C47: 01 | D47: 2 | E47: 01 | F47: 06 | G47: 05.01.02.01.01.0026 | L47: Belanja Alat/Bahan untuk Kegiatan Kantor- Bahan Cetak | M47: 0 | N47: 0 | O47: 0 | P47: =N47+O47 -> 0 | Q47: 0 | R47: 0 | S47: =Q47+R47 -> 0 | T47: 0 | U47: 0 | V47: =T47+U47 -> 0 | W47: =P47+S47+V47 -> 0 | X47: =M47-W47 -> 0
A48: 1 | B48: 05 | C48: 01 | D48: 2 | E48: 01 | F48: 06 | G48: 05.01.02.01.01.0027 | L48: Belanja Alat/Bahan untuk Kegiatan Kantor-Benda Pos | M48: 0 | N48: 0 | O48: 0 | P48: =N48+O48 -> 0 | Q48: 0 | R48: 0 | S48: =Q48+R48 -> 0 | T48: 0 | U48: 0 | V48: =T48+U48 -> 0 | W48: =P48+S48+V48 -> 0 | X48: =M48-W48 -> 0
...
