Workbook

Sheet BKU
A1: PEMERINTAH KOTA METRO
A2: BUKU KAS UMUM
A3: BENDAHARA PENGELUARAN
A6: SKPD | H6: : | I6: SATUAN POLISI PAMONG PRAJA
A7: BENDAHARA PENGELUARAN | H7: : | I7: SURITANANI
A9: No | B9: Tanggal | C9: Kode Rekening | O9: Uraian | P9: Penerimaan | Q9: Pengeluaran | R9: Saldo
A10: Urut
A11: 1 | B11: 2 | C11: 3 | O11: 4 | P11: 5 | Q11: 6 | R11: 7
O13: Saldo Pindahan Bulan Lalu ………………… | P13: =[1]BKU!$P$227 -> 6483849877 | Q13: =[1]BKU!$Q$227 -> 6477075076 | R13: =P13-Q13 -> 6774801
A15: 1 | B15: 46175 | O15: Diterima SP2D LS NO 18.72/03.0/000082/LS/1.05.0.00.0.00
O16: .0.0000/P1/4/2026 Tanggal 22 Mei 2026. Pembayaran
O17: Gaji dan Tunjangan Pegawai (Gaji P3K Bulan Juni 2026)
O18: untuk 7 Pegawai / 21 Jiwa (Rincian : 7 Jiwa / 6 Istri-Suami 8
O19: Anak) Satpol PP Kota Metro | P19: 23064376 | Q19: 0
A21: 2 | B21: 46175 | I21: 5 | J21: 1 | K21: 1 | L21: 01 | M21: 01 | N21: 0002 | O21: Belanja Gaji Pokok PPPK | P21: 0 | Q21: 18272600
A22: 3 | B22: 46175 | I22: 5 | J22: 1 | K22: 1 | L22: 01 | M22: 02 | N22: 0002 | O22: Belanja Tunajngan Keluarga PPPK | P22: 0 | Q22: 2005634
A23: 4 | B23: 46175 | I23: 5 | J23: 1 | K23: 1 | L23: 01 | M23: 05 | N23: 0002 | O23: Belanja Tunjangan Fungsional Umum PPPK | P23: 0 | Q23: 1265000
A24: 5 | B24: 46175 | I24: 5 | J24: 1 | K24: 1 | L24: 01 | M24: 06 | N24: 0002 | O24: Belanja Tunjangan Beras PPPK | P24: 0 | Q24: 1520820
A25: 6 | B25: 46175 | I25: 5 | J25: 1 | K25: 1 | L25: 01 | M25: 08 | N25: 0002 | O25: Dibayar Belanja Pembulatan Gaji PPPK | P25: 0 | Q25: 322
A27: 7 | B27: 46175 | O27: Diterima SP2D LS NO 18.72/03.0/000081/LS/1.05.0.00.0.00
O28: 02.0000/P1/3/2026 Tanggal 22 Mei 2026 Belanja
O29: Pembayaran Gaji dan Tunjangan Pegawai Bulan Juni 2026
O30: untuk 80 Pegawai/267 Jiwa
O31: (Rincian : 80 Jiwa/65 Istri/122 Anak ) | P31: 420570135 | Q31: 0
A33: 8 | B33: 46175 | I33: 5 | J33: 1 | K33: 1 | L33: 01 | M33: 01 | N33: 0001 | O33: Dibayar Belanja Gaji Poko PNS | P33: 0 | Q33: 314315600
A34: 9 | B34: 46175 | I34: 5 | J34: 1 | K34: 1 | L34: 01 | M34: 02 | N34: 0001 | O34: Dibayar Belanja Tunjangan Keluarga PNS | P34: 0 | Q34: 35481116
A35: 10 | B35: 46175 | I35: 5 | J35: 1 | K35: 1 | L35: 01 | M35: 03 | N35: 0001 | O35: Dibayar Belanja Tunjangan Jabatan PNS | P35: 0 | Q35: 9465000
A36: 11 | B36: 46175 | I36: 5 | J36: 1 | K36: 1 | L36: 01 | M36: 04 | N36: 0001 | O36: Dibayar Belanja Tunjangan Fungsional PNS | P36: 0 | Q36: 40470000
A37: 12 | B37: 46175 | I37: 5 | J37: 1 | K37: 1 | L37: 01 | M37: 05 | N37: 0001 | O37: Dibayar Belanja Tunjangan Fungsional Umum PNS | P37: 0 | Q37: 1080000
A38: 13 | B38: 46175 | I38: 5 | J38: 1 | K38: 1 | L38: 01 | M38: 06 | N38: 0001 | O38: Dibayar Belanja Tunjangan Beras PNS | P38: 0 | Q38: 19336140
A39: 14 | B39: 46175 | I39: 5 | J39: 1 | K39: 1 | L39: 01 | M39: 07 | N39: 0001 | O39: Dibayar Belanja Tunjangan PPH/Tunjangan Khusus PNS | P39: 0 | Q39: 418374
A40: 15 | B40: 46175 | I40: 5 | J40: 1 | K40: 1 | L40: 01 | M40: 08 | N40: 0001 | O40: Dibayar Belanja Pembulatan Gaji | P40: 0 | Q40: 3905
A42: 16 | B42: 46175 | O42: Dipungut PPH Psal 21 atas Belanja Gaji dan Tunjangan
O43: PNS Bulan Juini 2026 | P43: 418374 | Q43: 0
A45: 17 | B45: 46175 | O45: Dibayar PPH Psal 21 atas Belanja Gaji dan Tunjangan
O46: PNS Bulan Juini 2026 | P46: 0 | Q46: 418374
A48: 18 | B48: 46161 | O48: Diterima SP2D LS NO 18.72/03.0/000077/LS/1.05.0.00.0.00
O49: 02.0000/P2/5/2026 Tanggal 19 Mei 2026. Belanja
O50: PemeliharaanKomputer-Peralatan Komputer-Peralatan
O51: Komputer Lainnya (Servis Printer), Sub kegiatan
O52: Pemeliharaan/Rehabilitasi Sarana dan Prasarana Gedung
O53: Kantor atau Bangunan Lainnya | P53: 3293291 | Q53: 0
A55: 19 | B55: 46161 | I55: 5 | J55: 1 | K55: 02 | L55: 03 | M55: 002 | N55: 00411 | O55: Dibayar Belanja Pemeliharaan Komputer-Peralatan Komputer
O56: Peralatan Komputer Lainnya | P56: 0 | Q56: 3293291
A58: 20 | B58: 46167 | O58: Diterima SP2D LS NO 18.72/03.0/000086/LS/1.05.0.00.0.00
O59: 02.0000/P2/5/2026 Tanggal 25 Mei 2026. Belanja
O60: Pemeliharaan Alat Kantor dan Rumah Tangga-Alat Kantor
O61: Lainnya (Service AC), Sub kegiatan Pemeliharaan/Rehabi
O62: litasi Sarana dan Prasarana Gedung Kantor atau Bangunan
O63: Lainnya | P63: 2965920 | Q63: 0
A65: 21 | B65: 46167 | I65: 5 | J65: 1 | K65: 02 | L65: 03 | M65: 002 | N65: 00117 | O65: Dibayar Belanja Pemeliharaan Alat Kantor dan rumah
O66: Tangga-Alat Kantor-Alat Kantor Lainnya | P66: 0 | Q66: 2965920
A68: 22 | B68: 46167 | O68: Dipungut PPN atas Belanja Pemeliharaan Alat Kantor
O69: dan Rumah Tangga-Alat Kantor-Alat Kantor Lainnya | P69: 293920 | Q69: 0
A71: 23 | B71: 46167 | O71: Dibayar PPN atas Belanja Pemeliharaan Alat Kantor
O72: dan Rumah Tangga-Alat Kantor-Alat Kantor Lainnya | P72: 0 | Q72: 293920
A74: 24 | B74: 46167 | O74: Dipungut PPH Psal 21 atas Belanja Pemeliharaan Alat
O75: Kantor dan Rumah Tangga-Alat Kantor-Alat Kantor
O76: Lainnya | P76: 53440 | Q76: 0
A78: 25 | B78: 46167 | O78: Dibayar PPH Psal 21 atas Belanja Pemeliharaan Alat
O79: Kantor dan Rumah Tangga-Alat Kantor-Alat Kantor
O80: Lainnya | P80: 0 | Q80: 53440
A82: 26 | B82: 46175 | O82: Diterima SP2D LS NO 18.72/03.0/000090/LS/1.05.0.00.0.00
O83: 02.0000/P3/6/2026 Tanggal 02 Juni 2026. Belanja
O84: Jasa Pegawai Pemerintah dengan Perjanjian Kerja (PPPK)
O85: Paruh Waktu Bulan Mei 2026, Sub kegiatan Penyediaan
O86: Administrasi Pelaksanaan Tugas ASN | P86: 329800000 | Q86: 0
A88: 27 | B88: 46175 | I88: 5 | J88: 1 | K88: 02 | L88: 02 | M88: 001 | N88: 00087 | O88: Dibayar Belanja Jasa Pegawai Pemerintah dengan Perjanjian
O89: Kerja (PPPK) Paruh Waktu pada Jabatan Pengelola Umum
O90: Operasional | P90: 0 | Q90: 1700000
A91: 28 | B91: 46175 | I91: 5 | J91: 1 | K91: 02 | L91: 02 | M91: 001 | N91: 00088 | O91: Dibayar belanja Jasa Pegawai Pemerintah dengan Perjanjian
O92: Kerja (PPPK) Paruh Waktu pada Jabatan Operator Layanan
O93: Operasional | P93: 0 | Q93: 241400000
A94: 29 | B94: 46175 | I94: 5 | J94: 1 | K94: 02 | L94: 02 | M94: 001 | N94: 00089 | O94: Dibayar Belanja Jasa Pegawai Pemerintah dengan Perjanjian
O95: Kerja (PPPK) Paruh Waktu pada Jabatan Pengelola Layanan
O96: Operasional | P96: 0 | Q96: 13600000
A97: 30 | B97: 46175 | I97: 5 | J97: 1 | K97: 02 | L97: 02 | M97: 001 | N97: 00090 | O97: Dibayar Belanja Jasa Pegawai Pemerintah dengan Perjanjian
O98: Kerja (PPPK) Paruh Waktu pada Jabatan Pengelola Layanan
O99: Operasional | P99: 0 | Q99: 73100000
A101: 31 | B101: 46167 | O101: Diterima SP2D LS NO 18.72/03.0/000089/LS/1.05.0.00.0.00
O102: 02.0000/P3/6/2026 Tanggal 25 Mei 2026. Belanja
O103: Pemeliharaan Alat Angkutan-Alat Angkutan Darat Bermotor
O104: Kendaraan Bermotor Penumpang (Servis) Sub kegiatan
O105: Penyediaan Jasa Pemeliharaan, Biaya Pemeliharaan, dan
O106: Pajak Kendaraan Perorangan Dinas atau Kendaraan Jabatan | P106: 3788430 | Q106: 0 | AG106: Diterima SP2D LS NO 18.72/03.0/000031/LS/1.05.0.00.0.00.
AG107: 02.0000/P1/3/2026 Tanggal 11 Maret 2026 Belanja
A108: 32 | B108: 46167 | I108: 5 | J108: 1 | K108: 02 | L108: 03 | M108: 002 | N108: 00036 | O108: Dibayar Belanja Pemeliharaan Alat Angkutan-Alat Angkutan | AG108: Gajian dan Tunjangan ASN (Tambahan Penghasilan PNS)
O109: Darat Bermotor-Kendaraan Bermotor Penumpang | P109: 0 | Q109: 3788430
A111: 33 | B111: 46167 | O111: Dipungut PPN atas Belanja Pemeliharaan Alat Angkutan-
O112: Alat Angkutan Darat Bermotor-Kendaraan Bermotor
O113: Penumpang | P113: 375430 | Q113: 0
A115: 34 | B115: 46167 | O115: Dibayar PPN atas Belanja Pemeliharaan Alat Angkutan-
O116: Alat Angkutan Darat Bermotor-Kendaraan Bermotor
O117: Penumpang | P117: 0 | Q117: 375430
A119: 35 | B119: 46167 | O119: Dipungut PPH Psal 21 atas Belanja Pemeliharaan Alat
O120: Angkutan-Alat Angkutan Darat Bermotor-Kendaraan
O121: Bermotor Penumpang | P121: 68260 | Q121: 0
A123: 36 | B123: 46167 | O123: Dibayar PPH Psal 21 atas Belanja Pemeliharaan Alat
O124: Angkutan-Alat Angkutan Darat Bermotor-Kendaraan
O125: Bermotor Penumpang | P125: 0 | Q125: 68260
...

Sheet B Pajak
A1: PEMERINTAH KOTA METRO
A2: BUKU PEMBANTU PAJAK
A3: Bulan : JANUARI 2026
A4: SKPD | D4: : SATUAN POLISI PAMONG PRAJA
A5: PENGGUNA ANGGARAN | D5: : JOSE SARMENTO PIEDADE, S. STP., MH.
A6: BENDAHARA PENGELUARAN | D6: SURITANANI
A8: PENERIMAAN | J8: PENYETORAN
A9: No | B9: Tanggal | C9: Uraian Penerimaan | E9: PPN | F9: PPh 21 | G9: PPh 22 | H9: PPh 23 | I9: Jumlah | J9: No | K9: Tanggal | L9: Uraian Penyetoran | M9: PPN | N9: PPh 21 | O9: PPh 22 | P9: PPh 23 | Q9: Jumlah
A11: 1 | B11: 46146 | C11: Dipungut pajak atas | J11: 1 | K11: 46146 | L11: Dibayar Pajak atas Pembayaran
C12: pembayaran Gaji dan | L12: Gaji dan Tunjangan Pegawai
C13: Tunjangan Pegawai | L13: Bulan Mei 2026 | M13: 0 | N13: 418374 | O13: 0 | P13: 0 | Q13: =SUM(M13:P13) -> 418374
C14: (Bulan Mei 2026) | E14: 0 | F14: 418374 | G14: 0 | H14: 0 | I14: =SUM(E14:E14:H14) -> 418374
J15: 2 | K15: 46147 | L15: Dibayar Pajak atas Belanja
A16: 2 | B16: 46147 | C16: Dipungut Pajak atas | L16: Jasa Tenaga Ketentraman,
C17: Belanja Jasa Tenaga | L17: Ketertiban Umum, dan
C18: Ketentraman, Ketertiban | L18: Perlindungan Masyarakat | M18: 0 | N18: 270000 | O18: 0 | P18: 0 | Q18: =SUM(M18:P18) -> 270000
C19: Umum, dan Perlindungan
C20: Masyarakat | E20: 0 | F20: 270000 | G20: 0 | H20: 0 | I20: =SUM(E20:H20) -> 270000 | J20: 3 | K20: 46161 | L20: Dibayar Pajak atas Belanja
L21: tambahan Penghasilan
A22: 3 | B22: 46161 | C22: Dipungut Pajak atas | L22: PNS Bulan April 2026 | M22: 0 | N22: 11426813 | O22: 0 | P22: 0 | Q22: =SUM(M22:P22) -> 11426813
C23: Tambahan Penghasilan
C24: PNS Bulan April 2026 | E24: 0 | F24: 11426813 | G24: 0 | H24: 0 | I24: =SUM(E24:H24) -> 11426813 | J24: 4 | K24: 46167 | L24: Dibayar Pajak atas Belanja
L25: Jasa Tenaga Ketentraman,
A26: 4 | B26: 46167 | C26: Dipungut Pajak atas | L26: Ketertiban Umum, dan
C27: Belanja Jasa Tenaga | L27: Perlindungan Masyarakat | M27: 0 | N27: 661000 | O27: 0 | P27: 0 | Q27: =SUM(M27:P27) -> 661000
C28: Ketentraman, Ketertiban
C29: Umum, dan Perlindungan
C30: Masyarakat | E30: 0 | F30: 661000 | G30: 0 | H30: 0 | I30: =SUM(E30:H30) -> 661000
B49: Jumlah Penerimaan Bulan ini ……………… | E49: =SUM(E11:E48) -> 0 | F49: =SUM(F11:F48) -> 12776187 | G49: =SUM(G11:G48) -> 0 | H49: =SUM(H11:H48) -> 0 | I49: =SUM(E49:H49) -> 12776187 | K49: Jumlah Penyetoran Bulan ini………………… | M49: =SUM(M11:M48) -> 0 | N49: =SUM(N11:N48) -> 12776187 | O49: =SUM(O11:O48) -> 0 | P49: =SUM(P11:P48) -> 0 | Q49: =SUM(M49:P49) -> 12776187
B50: Jumlah Penerimaan Bulan Lalu …………… | E50: 0 | F50: 33096201 | G50: 0 | H50: 0 | I50: =SUM(E50:H50) -> 33096201 | K50: Jumlah Penerimaan Bulan Lalu …………… | M50: 0 | N50: 33096201 | O50: 0 | P50: 0 | Q50: =SUM(M50:P50) -> 33096201
B51: Jumlah Penerimaan s.d bulan ini ………… | E51: =SUM(E49:E50) -> 0 | F51: =SUM(F49:F50) -> 45872388 | G51: =SUM(G49:G50) -> 0 | H51: =SUM(H49:H50) -> 0 | I51: =SUM(I49:I50) -> 45872388 | K51: Jumlah Penerimaan s.d bulan ini ………… | M51: =SUM(M49:M50) -> 0 | N51: =SUM(N49:N50) -> 45872388 | O51: =SUM(O49:O50) -> 0 | P51: =SUM(P49:P50) -> 0 | Q51: =SUM(Q49:Q50) -> 45872388
B52: Jumlah yang belum disetor ………………… | Q52: =I51-Q51 -> 0
N54: =BKU!Q285 -> Metro, 31 Mei 2026
G55: Mengetahui,
G56: PENGGUNA ANGGARAN | N56: BENDAHARA PENGELUARAN
G60: ='[2]Tu2P Kas'!C48 -> JOSE SARMENTO PIEDADE, S. STP., MH. | N60: =[2]BKU!Q77 -> SURITANANI
G61: ='[2]Tu2P Kas'!C49 -> NIP. 19780210 199810 1 002 | N61: =[2]BKU!Q78 -> NIP. 19730603 200902 2 0002
K71: 44194 | L71: Disetor ke Bank Lampung Metro
L72: pajak atas honorarium PPTK
L73: kegiatan peningkatan rasa nasio
L74: nalisme dan wawasan kebangsaan | M74: 0 | N74: 337500 | O74: 0 | P74: 0 | Q74: =SUM(M74:P74) -> 337500
K76: 44194 | L76: Disetor ke Bank Lampung Metro
L77: pajak atas belanja ATK, kegiatan
L78: peningkatan rasa nasionalisme
L79: dan wawasan kebangsaan | M79: 111627 | N79: 0 | O79: 0 | P79: 0 | Q79: =SUM(M79:P79) -> 111627
K81: 44194 | L81: Disetor ke Bank Lampung Metro
L82: pajak atas honorarium anggota
L83: koorsik, kegiatan peningkatan
L84: ketrampilan regu koorsik | M84: 0 | N84: 10000 | O84: 0 | P84: 0 | Q84: =SUM(M84:P84) -> 10000
K86: 44195 | L86: Disetor ke Kantor Pos Metro
L87: pajak atas honorarium PPTK
L88: kegiatan penegakan peraturan
L89: perundang-undangan dan perda | M89: 0 | N89: 75000 | O89: 0 | P89: 0 | Q89: =SUM(M89:P89) -> 75000
K92: 44195 | L92: Disetor ke Kantor Pos Metro pajak
L93: atas belanja modal pengadaan
L94: printer, kegiatan peralatan gedung
L95: kantor | M95: 318182 | N95: 0 | O95: 0 | P95: 0 | Q95: =SUM(M95:P95) -> 318182
K97: 44195 | L97: Disetor ke Kantor Pos Metro pajak
L98: atas belanja modal printer kegiatan
L99: pemeliharaan rutin perlengkapan
L100: gedung kantor | M100: 0 | N100: 0 | O100: 137091 | P100: 0 | Q100: =SUM(M100:P100) -> 137091
K102: 44195 | L102: Disetor ke Kantor Pos Metro pajak
L103: atas makanan dan minuman rapat
L104: kegiatan penyediaan makanan
L105: dan minuman | M105: 0 | N105: 0 | O105: 0 | P105: 4800 | Q105: =SUM(M105:P105) -> 4800
K107: 44195 | L107: Disetor ke Kantor Pos Metro pajak
L108: atas makanan dan minuman rapat
L109: kegiatan penyediaan makanan
L110: dan minuman | M110: 0 | N110: 0 | O110: 0 | P110: 4800 | Q110: =SUM(M110:P110) -> 4800
K113: 44195 | L113: Disetor ke Bank Lampung Metro
L114: pajak atas belanja makanan dan
L115: minuman, kegiatan penyediaan
L116: makanan dan minuman | M116: 0 | N116: 0 | O116: 0 | P116: 4800 | Q116: =SUM(M116:P116) -> 4800

Sheet Tu2P Kas
A2: PEMERINTAH KOTA METRO
A3: LAPORAN PENUTUPAN KAS BULANAN
A4: Nomor Tahun 2026
A7: Kepada Yth,
A8: Kepala BPKAD Kota Metro
A9: di -
A10: TEMPAT
A14: Dengan memperhatikan Peraturan Walikota Metro No. .... Tahun ...... mengenai Sistem dan Prosedur Penatausahaan Keuangan Pemerintah Kota Metro, bersama ini kami sampaikan Laporan Penutupan Kas Bulanan yang terdapat di Bendahara Pengeluaran OPD Satuan Polisi Pamong Praja Kota Metro sejumlah Rp. NIHIL dengan perincian sebagai berikut :
A16: A. | B16: Kas di Bendahara Pengeluaran
B17: A.1 | C17: Saldo awal bulan tanggal | D17: =BKU!B54 -> 0 | E17: =[2]BKU!R13 -> 0
B18: A.2 | C18: Jumlah Penerimaan | E18: =BKU!P277 -> 8134691415
B19: A.3 | C19: Jumlah Pengeluaran | E19: =BKU!Q277 -> 8127916614
B20: A.4 | C20: Saldo Akhir bulan tanggal | E20: =E18-E19 -> 6774801
B21: Saldo akhir bulan tanggal | D21: =D17+18 -> 18 | E21: terdiri dari saldo di kas tunai sebesar | G21: 0
B22: dan saldo di bank sebesar | D22: =[2]BKU!D69:L69 -> 0
A24: B. | B24: Kas di Bendahara Pengeluaran Pembantu
B25: B.1 | C25: Saldo awal bulan tanggal …. | D25: =BKU!B54 -> 0 | E25: =BKU!R13 -> 6774801
B26: B.2 | C26: Jumlah Penerimaan | E26: =BKU!P277 -> 8134691415
B27: B.3 | C27: Jumlah Pengeluaran | E27: =BKU!Q277 -> 8127916614
B28: B.4 | C28: Saldo Akhir bulan tanggal | E28: =BKU!R277 -> 6774801
B29: Saldo akhir bulan tanggal | E29: terdiri dari saldo di kas tunai sebesar | G29: 0
B30: dan saldo di bank sebesar | D30: 0
A32: C. | B32: Rekapitulasi Posisi Kas di Bendahara Pengeluaran
B33: C.1 | C33: Saldo di Kas Tunai | E33: 0
B34: C.2 | C34: Saldo di Bank | E34: =[2]BKU!R63 -> 0
B35: C.3 | C35: Saldo Total | E35: =SUM(E33:E34) -> 0
F41: =BKU!Q285 -> Metro, 31 Mei 2026
B42: Mengetahui ;
B43: Pengguna Anggaran | F43: =[2]BKU!Q73 -> Bendahara Pengeluaran
B48: =[2]BKU!J77 -> JOSE SARMENTO PIEDADE, S. STP., MH. | F48: =[2]BKU!Q77 -> SURITANANI
B49: =[2]BKU!J78 -> NIP. 19780210 199810 1 002 | F49: =[2]BKU!Q78 -> NIP. 19730603 200902 2 0002

Sheet Fungsional FIX
I2: PEMERINTAH KOTA METRO
I3: SURAT PENGESAHAN PERTANGGUNGJAWABAN BENDAHARA PENGELUARAN
I4: ( SPJ BELANJA )
A8: Kode Rekening | L8: Uraian | M8: Jumlah Anggaran | N8: SPJ - LS | Q8: SPJ - LS Barang & Jasa *) | T8: SPJ - UP/GU/TU | W8: Jumlah SPJ | X8: Sisa Pagu
N9: s.d | O9: Bulan ini | P9: s.d | Q9: s.d | R9: Bulan ini | S9: s.d | T9: s.d | U9: Bulan ini | V9: s.d | W9: (LS+UP/GU/TU) | X9: Anggaran
N10: Bulan lalu | P10: Bulan ini | Q10: Bulan lalu | S10: Bulan ini | T10: Bulan lalu | V10: Bulan ini | W10: s.d bulan ini
A11: 1 | L11: 2 | M11: 3 | N11: 4 | O11: 5 | P11: 6 (4+5) | Q11: 7 | R11: 8 | S11: 9 (7+8) | T11: 10 | U11: 11 | V11: 12 (10+11) | W11: 13 (6+9+12) | X11: 14 (3-13)
B12: 1 | L12: URUSAN PEMERINTAHAN WAJIB YANG BERKAITAN DENGAN PELAYANAN DASAR | M12: =M13 -> 14620733459 | N12: =N13 -> 4195364607 | O12: =O13 -> 1059128159 | P12: =N12+O12 -> 5254492766 | Q12: =Q13 -> 2283106562 | R12: =R13 -> 577900687 | S12: =Q12+R12 -> 2861007249 | T12: =T13 -> 3730119 | U12: =U13 -> 0 | V12: =T12+U12 -> 3730119 | W12: =P12+S12+V12 -> 8119230134 | X12: =M12-W12 -> 6501503325
A13: 1 | B13: 05 | L13: URUSAN PEMERINTAHAN BIDANG KETENTERAMAN DAN KETERTIBAN UMUM SERTA PERLINDUNGAN MASYARAKAT | M13: =M14+M303 -> 14620733459 | N13: =N14+N303 -> 4195364607 | O13: =O14+O303 -> 1059128159 | P13: =N13+O13 -> 5254492766 | Q13: =Q14+Q303 -> 2283106562 | R13: =R14+R303 -> 577900687 | S13: =Q13+R13 -> 2861007249 | T13: =T14+T303 -> 3730119 | U13: =U14+U303 -> 0 | V13: =T13+U13 -> 3730119 | W13: =P13+S13+V13 -> 8119230134 | X13: =M13-W13 -> 6501503325
A14: 1 | B14: 05 | C14: 01 | L14: Program Penunjang Urusan Pemerintahan Daerah Kabupaten/Kota | M14: =M15+M60+M120+M148+M210+M246+M264 -> 13126557459 | N14: =N15+N60+N120+N148+N210+N246+N264 -> 4195364607 | O14: =O15+O60+O120+O148+O210+O246+O264 -> 1059128159 | P14: =N14+O14 -> 5254492766 | Q14: =Q15+Q60+Q120+Q148+Q210+Q246+Q264 -> 1900761562 | R14: =R15+R60+R120+R148+R210+R246+R264 -> 509820687 | S14: =Q14+R14 -> 2410582249 | T14: =T15+T60+T120+T148+T210+T246+T264 -> 3730119 | U14: =U15+U60+U120+U148+U210+U246+U264 -> 0 | V14: =T14+U14 -> 3730119 | W14: =W15+W60+W120+W148 -> 7521780363 | X14: =M14-W14 -> 5604777096
A15: 1 | B15: 05 | C15: 01 | D15: 2 | E15: 01 | L15: Perencanaan,Penganggaran, dan Evaluasi Kinerja Perangkat Daerah | M15: =M16+M30+M41+M50 -> 0 | N15: =N16+N30+N41+N50 -> 0 | O15: =O16+O30+O41+O50 -> 0 | P15: =N15+O15 -> 0 | Q15: =Q16+Q30+Q41+Q50 -> 0 | R15: =R16+R30+R41+R50 -> 0 | S15: =Q15+R15 -> 0 | T15: =T16+T30+T41+T50 -> 0 | U15: =U16+U30+U41+U50 -> 0 | V15: =T15+U15 -> 0 | W15: =P15+S15+V15 -> 0 | X15: =M15-W15 -> 0
A16: 1 | B16: 05 | C16: 01 | D16: 2 | E16: 01 | F16: 01 | L16: Penyusunan Dokumen Perencanaan Perangkat Daerah | M16: =M17 -> 0 | N16: =N17 -> 0 | O16: =O17 -> 0 | P16: =N16+O16 -> 0 | Q16: =Q17 -> 0 | R16: =R17 -> 0 | S16: =Q16+R16 -> 0 | T16: =T17 -> 0 | U16: =U17 -> 0 | V16: =T16+U16 -> 0 | W16: =P16+S16+V16 -> 0 | X16: =M16-W16 -> 0
A17: 1 | B17: 05 | C17: 01 | D17: 2 | E17: 01 | F17: 01 | G17: 05.01 | L17: Belanja Operasi | M17: =M18 -> 0 | N17: =N18 -> 0 | O17: =O18 -> 0 | P17: =N17+O17 -> 0 | Q17: =Q18 -> 0 | R17: =R18 -> 0 | S17: =Q17+R17 -> 0 | T17: =T18 -> 0 | U17: =U18 -> 0 | V17: =T17+U17 -> 0 | W17: =P17+S17+V17 -> 0 | X17: =M17-W17 -> 0
A18: 1 | B18: 05 | C18: 01 | D18: 2 | E18: 01 | F18: 01 | G18: 0.20903935 | L18: Belanja Pegawai | M18: =M19+M23 -> 0 | N18: =N19+N23 -> 0 | O18: =O19+O23 -> 0 | P18: =N18+O18 -> 0 | Q18: =Q19+Q23 -> 0 | R18: =R19+R23 -> 0 | S18: =Q18+R18 -> 0 | T18: =T19+T23 -> 0 | U18: =U19+U23 -> 0 | V18: =T18+U18 -> 0 | W18: =P18+S18+V18 -> 0 | X18: =M18-W18 -> 0
A19: 1 | B19: 05 | C19: 01 | D19: 2 | E19: 01 | F19: 01 | G19: 05.01.01.03 | L19: Tambahan Penghasilan berdasarkan Pertimbangan Objektif lainnya ASN | M19: =M20 -> 0 | N19: =N20 -> 0 | O19: =O20 -> 0 | P19: =N19+O19 -> 0 | Q19: =Q20 -> 0 | R19: =R20 -> 0 | S19: =Q19+R19 -> 0 | T19: =T20 -> 0 | U19: =U20 -> 0 | V19: =T19+U19 -> 0 | W19: =P19+S19+V19 -> 0 | X19: =M19-W19 -> 0
A20: 1 | B20: 05 | C20: 01 | D20: 2 | E20: 01 | F20: 01 | G20: 05.01.01.03.07 | L20: Belanja Honorarium | M20: =M21 -> 0 | N20: =N21 -> 0 | O20: =O21 -> 0 | P20: =N20+O20 -> 0 | Q20: =Q21 -> 0 | R20: =R21 -> 0 | S20: =Q20+R20 -> 0 | T20: =T21 -> 0 | U20: =U21 -> 0 | V20: =T20+U20 -> 0 | W20: =P20+S20+V20 -> 0 | X20: =M20-W20 -> 0
A21: 1 | B21: 05 | C21: 01 | D21: 2 | E21: 01 | F21: 01 | G21: 05.01.01.03.07.0001 | L21: Belanja Penanggungjawab Pengelola Keuangan | M21: 0 | N21: 0 | O21: 0 | P21: =N21+O21 -> 0 | Q21: 0 | R21: 0 | S21: =Q21+R21 -> 0 | T21: 0 | U21: 0 | V21: =T21+U21 -> 0 | W21: =P21+S21+V21 -> 0 | X21: =M21-W21 -> 0
A23: 1 | B23: 05 | C23: 01 | D23: 2 | E23: 01 | F23: 01 | G23: 0.20905093 | L23: Belanja Barang dan Jasa | M23: =M24 -> 0 | N23: =N24 -> 0 | O23: =O24 -> 0 | P23: =N23+O23 -> 0 | Q23: =Q24 -> 0 | R23: =R24 -> 0 | S23: =Q23+R23 -> 0 | T23: =T24 -> 0 | U23: =U24 -> 0 | V23: =T23+U23 -> 0 | W23: =P23+S23+V23 -> 0 | X23: =M23-W23 -> 0
A24: 1 | B24: 05 | C24: 01 | D24: 2 | E24: 01 | F24: 01 | G24: 05.01.02.01. | L24: Belanja Barang | M24: =SUM(M26:M28) -> 0 | N24: =SUM(N26:N28) -> 0 | O24: =SUM(O26:O28) -> 0 | P24: =N24+O24 -> 0 | Q24: =SUM(Q26:Q28) -> 0 | R24: =SUM(R26:R28) -> 0 | S24: =Q24+R24 -> 0 | T24: =SUM(T26:T28) -> 0 | U24: =SUM(U26:U28) -> 0 | V24: =T24+U24 -> 0 | W24: =SUM(W26:W28) -> 0 | X24: =SUM(X26:X28) -> 0
A25: 1 | B25: 05 | C25: 01 | D25: 2 | E25: 01 | F25: 01 | G25: 05.01.02.01.01 | L25: Belanja Barang Pakai Habis | M25: =SUM(M26:M28) -> 0 | N25: =SUM(N26:N28) -> 0 | O25: =SUM(O26:O28) -> 0 | P25: =N25+O25 -> 0 | Q25: =SUM(Q26:Q28) -> 0 | R25: =SUM(R26:R28) -> 0 | S25: =Q25+R25 -> 0 | T25: =SUM(T26:T28) -> 0 | U25: =SUM(U26:U28) -> 0 | V25: =T25+U25 -> 0 | W25: =SUM(W26:W28) -> 0 | X25: =SUM(X26:X28) -> 0
A26: 1 | B26: 05 | C26: 01 | D26: 2 | E26: 01 | F26: 01 | G26: 05.01.02.01.01.0024 | L26: Belanja Alat Tulis Kantor | M26: 0 | N26: 0 | O26: 0 | P26: =N26+O26 -> 0 | Q26: 0 | R26: 0 | S26: =Q26+R26 -> 0 | T26: 0 | U26: 0 | V26: =T26+U26 -> 0 | W26: =P26+S26+V26 -> 0 | X26: =M26-W26 -> 0
A27: 1 | B27: 05 | C27: 01 | D27: 2 | E27: 01 | F27: 01 | G27: 05.01.02.01.01.0026 | L27: Belanja Alat/Bahan untuk Kegiatan Kantor- Bahan Cetak | M27: 0 | N27: 0 | O27: 0 | P27: =N27+O27 -> 0 | Q27: 0 | R27: 0 | S27: =Q27+R27 -> 0 | T27: 0 | U27: 0 | V27: =T27+U27 -> 0 | W27: =P27+S27+V27 -> 0 | X27: =M27-W27 -> 0
A28: 1 | B28: 05 | C28: 01 | D28: 2 | E28: 01 | F28: 01 | G28: 05.01.02.01.01.0027 | L28: Belanja Alat/Bahan untuk Kegiatan Kantor-Benda Pos | M28: 0 | N28: 0 | O28: 0 | P28: =N28+O28 -> 0 | Q28: 0 | R28: 0 | S28: =Q28+R28 -> 0 | T28: 0 | U28: 0 | V28: =T28+U28 -> 0 | W28: =P28+S28+V28 -> 0 | X28: =M28-W28 -> 0
A30: 1 | B30: 05 | C30: 01 | D30: 2 | E30: 01 | F30: 02 | L30: Kordinasi dan Penyusunan Dokumen RKA-SKPD | M30: =M31 -> 0 | N30: =N31 -> 0 | O30: =O31 -> 0 | P30: =N30+O30 -> 0 | Q30: =Q31 -> 0 | R30: =R31 -> 0 | S30: =Q30+R30 -> 0 | T30: =T31 -> 0 | U30: =U31 -> 0 | V30: =T30+U30 -> 0 | W30: =P30+S30+V30 -> 0 | X30: =M30-W30 -> 0
A31: 1 | B31: 05 | C31: 01 | D31: 2 | E31: 01 | F31: 02 | G31: 05.01 | L31: Belanja Operasi | M31: =M32+M37 -> 0 | N31: =N32+N37 -> 0 | O31: =O32+O37 -> 0 | P31: =N31+O31 -> 0 | Q31: =Q32+Q37 -> 0 | R31: =R32+R37 -> 0 | S31: =Q31+R31 -> 0 | T31: =T32+T37 -> 0 | U31: =U32+U37 -> 0 | V31: =T31+U31 -> 0 | W31: =P31+S31+V31 -> 0 | X31: =M31-W31 -> 0
A32: 1 | B32: 05 | C32: 01 | D32: 2 | E32: 01 | F32: 02 | G32: 05.01.02 | L32: Belanja Barang dan Jasa | M32: =M33 -> 0 | N32: =N33 -> 0 | O32: =O33 -> 0 | P32: =N32+O32 -> 0 | Q32: =Q33 -> 0 | R32: =R33 -> 0 | S32: =Q32+R32 -> 0 | T32: =T33 -> 0 | U32: =U33 -> 0 | V32: =T32+U32 -> 0 | W32: =P32+S32+V32 -> 0 | X32: =M32-W32 -> 0
A33: 1 | B33: 05 | C33: 01 | D33: 2 | E33: 01 | F33: 02 | G33: 05.01.02.01 | L33: Belanja Barang | M33: =M34 -> 0 | N33: =N34 -> 0 | O33: =O34 -> 0 | P33: =N33+O33 -> 0 | Q33: =Q34 -> 0 | R33: =R34 -> 0 | S33: =Q33+R33 -> 0 | T33: =T34 -> 0 | U33: =U34 -> 0 | V33: =T33+U33 -> 0 | W33: =P33+S33+V33 -> 0 | X33: =M33-W33 -> 0
A34: 1 | B34: 05 | C34: 01 | D34: 2 | E34: 01 | F34: 02 | G34: 05.01.02.01.01 | L34: Belanja Barang Pakai Habis | M34: =M35 -> 0 | N34: =N35 -> 0 | O34: =O35 -> 0 | P34: =N34+O34 -> 0 | Q34: =Q35 -> 0 | R34: =R35 -> 0 | S34: =Q34+R34 -> 0 | T34: =T35 -> 0 | U34: =U35 -> 0 | V34: =T34+U34 -> 0 | W34: =P34+S34+V34 -> 0 | X34: =M34-W34 -> 0
A35: 1 | B35: 05 | C35: 01 | D35: 2 | E35: 01 | F35: 02 | G35: 05.01.02.01.01.0026 | L35: Belanja Alat/Bahan untuk Kegiatan Kantor- Bahan Cetak | M35: 0 | N35: 0 | O35: 0 | P35: =N35+O35 -> 0 | Q35: 0 | R35: 0 | S35: =Q35+R35 -> 0 | T35: 0 | U35: 0 | V35: =T35+U35 -> 0 | W35: =P35+S35+V35 -> 0 | X35: =M35-W35 -> 0
A37: 1 | B37: 05 | C37: 01 | D37: 2 | E37: 01 | F37: 02 | G37: 05.01.02.02 | L37: Belanja Jasa | M37: =M38 -> 0 | N37: =N38 -> 0 | O37: =O38 -> 0 | P37: =N37+O37 -> 0 | Q37: =Q38 -> 0 | R37: =R38 -> 0 | S37: =Q37+R37 -> 0 | T37: =T38 -> 0 | U37: =U38 -> 0 | V37: =T37+U37 -> 0 | W37: =P37+S37+V37 -> 0 | X37: =M37-W37 -> 0
A38: 1 | B38: 05 | C38: 01 | D38: 2 | E38: 01 | F38: 02 | G38: 05.01.02.02.01 | L38: Belanja Jasa Kantor | M38: =M39 -> 0 | N38: =N39 -> 0 | O38: =O39 -> 0 | P38: =N38+O38 -> 0 | Q38: =Q39 -> 0 | R38: =R39 -> 0 | S38: =Q38+R38 -> 0 | T38: =T39 -> 0 | U38: =U39 -> 0 | V38: =T38+U38 -> 0 | W38: =P38+S38+V38 -> 0 | X38: =M38-W38 -> 0
A39: 1 | B39: 05 | C39: 01 | D39: 2 | E39: 01 | F39: 02 | G39: 05.01.02.02.01.0071 | L39: Belanja Lembur | M39: 0 | N39: 0 | O39: 0 | P39: =N39+O39 -> 0 | Q39: 0 | R39: 0 | S39: =Q39+R39 -> 0 | T39: 0 | U39: 0 | V39: =T39+U39 -> 0 | W39: =P39+S39+V39 -> 0 | X39: =M39-W39 -> 0
A41: 1 | B41: 05 | C41: 01 | D41: 2 | E41: 01 | F41: 06 | L41: Koordinasi dan Penyusunan Laporan Capaian Kinerja dan Ikhtisar Realisasi Kinerja SKPD | M41: =M42 -> 0 | N41: =N42 -> 0 | O41: =O42 -> 0 | P41: =N41+O41 -> 0 | Q41: =Q42 -> 0 | R41: =R42 -> 0 | S41: =Q41+R41 -> 0 | T41: =T42 -> 0 | U41: =U42 -> 0 | V41: =T41+U41 -> 0 | W41: =P41+S41+V41 -> 0 | X41: =M41-W41 -> 0
A42: 1 | B42: 05 | C42: 01 | D42: 2 | E42: 01 | F42: 06 | G42: 05.01 | L42: Belanja Operasi | M42: =M43 -> 0 | N42: =N43 -> 0 | O42: =O43 -> 0 | P42: =N42+O42 -> 0 | Q42: =Q43 -> 0 | R42: =R43 -> 0 | S42: =Q42+R42 -> 0 | T42: =T43 -> 0 | U42: =U43 -> 0 | V42: =T42+U42 -> 0 | W42: =P42+S42+V42 -> 0 | X42: =M42-W42 -> 0
A43: 1 | B43: 05 | C43: 01 | D43: 2 | E43: 01 | F43: 06 | G43: 05.01.02 | L43: Belanja Barang dan Jasa | M43: =M44 -> 0 | N43: =N44 -> 0 | O43: =O44 -> 0 | P43: =N43+O43 -> 0 | Q43: =Q44 -> 0 | R43: =R44 -> 0 | S43: =Q43+R43 -> 0 | T43: =T44 -> 0 | U43: =U44 -> 0 | V43: =T43+U43 -> 0 | W43: =P43+S43+V43 -> 0 | X43: =M43-W43 -> 0
A44: 1 | B44: 05 | C44: 01 | D44: 2 | E44: 01 | F44: 06 | G44: 05.01.02.01 | L44: Belanja Barang | M44: =M45 -> 0 | N44: =N45 -> 0 | O44: =O45 -> 0 | P44: =N44+O44 -> 0 | Q44: =Q45 -> 0 | R44: =R45 -> 0 | S44: =Q44+R44 -> 0 | T44: =T45 -> 0 | U44: =U45 -> 0 | V44: =T44+U44 -> 0 | W44: =P44+S44+V44 -> 0 | X44: =M44-W44 -> 0
A45: 1 | B45: 05 | C45: 01 | D45: 2 | E45: 01 | F45: 06 | G45: 05.01.02.01.01 | L45: Belanja Barang Pakai Habis | M45: =SUM(M46:M48) -> 0 | N45: =SUM(N46:N48) -> 0 | O45: =SUM(O46:O48) -> 0 | P45: =N45+O45 -> 0 | Q45: =SUM(Q46:Q48) -> 0 | R45: =SUM(R46:R48) -> 0 | S45: =Q45+R45 -> 0 | T45: =SUM(T46:T48) -> 0 | U45: =SUM(U46:U48) -> 0 | V45: =T45+U45 -> 0 | W45: =P45+S45+V45 -> 0 | X45: =M45-W45 -> 0
A46: 1 | B46: 05 | C46: 01 | D46: 2 | E46: 01 | F46: 06 | G46: 05.01.02.01.01.0024 | L46: Alat Tulis Kantor | M46: 0 | N46: 0 | O46: 0 | P46: =N46+O46 -> 0 | Q46: 0 | R46: 0 | S46: =Q46+R46 -> 0 | T46: 0 | U46: 0 | V46: =T46+U46 -> 0 | W46: =P46+S46+V46 -> 0 | X46: =M46-W46 -> 0
A47: 1 | B47: 05 | C47: 01 | D47: 2 | E47: 01 | F47: 06 | G47: 05.01.02.01.01.0026 | L47: Belanja Alat/Bahan untuk Kegiatan Kantor- Bahan Cetak | M47: 0 | N47: 0 | O47: 0 | P47: =N47+O47 -> 0 | Q47: 0 | R47: 0 | S47: =Q47+R47 -> 0 | T47: 0 | U47: 0 | V47: =T47+U47 -> 0 | W47: =P47+S47+V47 -> 0 | X47: =M47-W47 -> 0
A48: 1 | B48: 05 | C48: 01 | D48: 2 | E48: 01 | F48: 06 | G48: 05.01.02.01.01.0027 | L48: Belanja Alat/Bahan untuk Kegiatan Kantor-Benda Pos | M48: 0 | N48: 0 | O48: 0 | P48: =N48+O48 -> 0 | Q48: 0 | R48: 0 | S48: =Q48+R48 -> 0 | T48: 0 | U48: 0 | V48: =T48+U48 -> 0 | W48: =P48+S48+V48 -> 0 | X48: =M48-W48 -> 0
A50: 1 | B50: 05 | C50: 01 | D50: 2 | E50: 01 | F50: 07 | L50: Evaluasi Kinerja Perangkat Daerah | M50: =M51 -> 0 | N50: =N51 -> 0 | O50: =O51 -> 0 | P50: =N50+O50 -> 0 | Q50: =Q51 -> 0 | R50: =R51 -> 0 | S50: =Q50+R50 -> 0 | T50: =T51 -> 0 | U50: =U51 -> 0 | V50: =T50+U50 -> 0 | W50: =P50+S50+V50 -> 0 | X50: =M50-W50 -> 0
A51: 1 | B51: 05 | C51: 01 | D51: 2 | E51: 01 | F51: 07 | G51: 05.01 | L51: Belanja Operasi | M51: =M53 -> 0 | N51: =N53 -> 0 | O51: =O53 -> 0 | P51: =N51+O51 -> 0 | Q51: =Q53 -> 0 | R51: =R53 -> 0 | S51: =Q51+R51 -> 0 | T51: =T53 -> 0 | U51: =U53 -> 0 | V51: =T51+U51 -> 0 | W51: =P51+S51+V51 -> 0 | X51: =M51-W51 -> 0
A52: 1 | B52: 05 | C52: 01 | D52: 2 | E52: 01 | F52: 07 | G52: 05.01.02 | L52: Belanja Barang dan Jasa | M52: =M53 -> 0 | N52: =N53 -> 0 | O52: =O53 -> 0 | P52: =N52+O52 -> 0 | Q52: =Q53 -> 0 | R52: =R53 -> 0 | S52: =Q52+R52 -> 0 | T52: =T53 -> 0 | U52: =U53 -> 0 | V52: =T52+U52 -> 0 | W52: =P52+S52+V52 -> 0 | X52: =M52-W52 -> 0
A53: 1 | B53: 05 | C53: 01 | D53: 2 | E53: 01 | F53: 07 | G53: 05.01.02.01 | L53: Belanja Barang | M53: =M54 -> 0 | N53: =N54 -> 0 | O53: =O54 -> 0 | P53: =N53+O53 -> 0 | Q53: =Q54 -> 0 | R53: =R54 -> 0 | S53: =Q53+R53 -> 0 | T53: =T54 -> 0 | U53: =U54 -> 0 | V53: =T53+U53 -> 0 | W53: =P53+S53+V53 -> 0 | X53: =M53-W53 -> 0
A54: 1 | B54: 05 | C54: 01 | D54: 2 | E54: 01 | F54: 07 | G54: 05.01.02.01.01 | L54: Belanja Barang Pakai Habis | M54: =SUM(M55:M57) -> 0 | N54: =SUM(N55:N57) -> 0 | O54: =SUM(O55:O57) -> 0 | P54: =N54+O54 -> 0 | Q54: =SUM(Q55:Q57) -> 0 | R54: =SUM(R55:R57) -> 0 | S54: =Q54+R54 -> 0 | T54: =SUM(T55:T57) -> 0 | U54: =SUM(U55:U57) -> 0 | V54: =T54+U54 -> 0 | W54: =P54+S54+V54 -> 0 | X54: =M54-W54 -> 0
A55: 1 | B55: 05 | C55: 01 | D55: 2 | E55: 01 | F55: 07 | G55: 05.01.02.01.01.0024 | L55: Alat Tulis Kantor | M55: 0 | N55: 0 | O55: 0 | P55: =N55+O55 -> 0 | Q55: 0 | R55: 0 | S55: =Q55+R55 -> 0 | T55: 0 | U55: 0 | V55: =T55+U55 -> 0 | W55: =P55+S55+V55 -> 0 | X55: =M55-W55 -> 0
A56: 1 | B56: 05 | C56: 01 | D56: 2 | E56: 01 | F56: 07 | G56: 05.01.02.01.01.0025 | L56: Belanja Alat/Bahan untuk Kegiatan Kantor- Kertas dan Cover | M56: 0 | N56: 0 | O56: 0 | P56: =N56+O56 -> 0 | Q56: 0 | R56: 0 | S56: =Q56+R56 -> 0 | T56: 0 | U56: 0 | V56: =T56+U56 -> 0 | W56: =P56+S56+V56 -> 0 | X56: =M56-W56 -> 0
A57: 1 | B57: 05 | C57: 01 | D57: 2 | E57: 01 | F57: 07 | G57: 05.01.02.01.01.0027 | L57: Belanja Alat/Bahan untuk Kegiatan Kantor-Benda Pos | M57: 0 | N57: =N58 -> 0 | O57: =O58 -> 0 | P57: =N57+O57 -> 0 | Q57: =Q58 -> 0 | R57: =R58 -> 0 | S57: =Q57+R57 -> 0 | T57: =T58 -> 0 | U57: =U58 -> 0 | V57: =T57+U57 -> 0 | W57: =P57+S57+V57 -> 0 | X57: =M57-W57 -> 0
A60: 1 | B60: 05 | C60: 01 | D60: 2 | E60: 02 | L60: Administrasi Keuangan Perangkat Daerah | M60: =M61+M107 -> 12729286369 | N60: =N61+N107 -> 4195364607 | O60: =O61+O107 -> 1059128159 | P60: =N60+O60 -> 5254492766 | Q60: =Q61+Q107 -> 1750370000 | R60: =R61+R107 -> 494700000 | S60: =Q60+R60 -> 2245070000 | T60: =T61+T107 -> 0 | U60: =U61+U107 -> 0 | V60: =T60+U60 -> 0 | W60: =P60+S60+V60 -> 7499562766 | X60: =M60-W60 -> 5229723603
A61: 1 | B61: 05 | C61: 01 | D61: 2 | E61: 02 | F61: 01 | L61: Penyedian Gaji dan Tunjangan ASN | M61: =M62 -> 8714906369 | N61: =N62 -> 4195364607 | O61: =O62 -> 1059128159 | P61: =N61+O61 -> 5254492766 | Q61: =Q62 -> 0 | R61: =R62 -> 0 | S61: =Q61+R61 -> 0 | T61: =T62 -> 0 | U61: =U62 -> 0 | V61: =T61+U61 -> 0 | W61: =P61+S61+V61 -> 5254492766 | X61: =M61-W61 -> 3460413603
A62: 1 | B62: 05 | C62: 01 | D62: 2 | E62: 02 | F62: 01 | G62: 05.01 | L62: Belanja Operasi | M62: =M63+M95 -> 8714906369 | N62: =N63+N95 -> 4195364607 | O62: =O63+O95 -> 1059128159 | P62: =N62+O62 -> 5254492766 | Q62: =Q63+Q95 -> 0 | R62: =R63+R95 -> 0 | S62: =Q62+R62 -> 0 | T62: =T63+T95 -> 0 | U62: =U63+U95 -> 0 | V62: =T62+U62 -> 0 | W62: =P62+S62+V62 -> 5254492766 | X62: =M62-W62 -> 3460413603
A63: 1 | B63: 05 | C63: 01 | D63: 2 | E63: 02 | F63: 01 | G63: 05.01.01 | L63: Belanja Pegawai | M63: =M64 -> 7189335539 | N63: =N64 -> 3366052889 | O63: =O64 -> 885027785 | P63: =N63+O63 -> 4251080674 | Q63: =Q64 -> 0 | R63: =R64 -> 0 | S63: =Q63+R63 -> 0 | T63: =T64 -> 0 | U63: =U64 -> 0 | V63: =T63+U63 -> 0 | W63: =P63+S63+V63 -> 4251080674 | X63: =M63-W63 -> 2938254865
A64: 1 | B64: 05 | C64: 01 | D64: 2 | E64: 02 | F64: 01 | G64: 05.01.01.01 | L64: Belanja Gaji dan Tunjangan Pegawai ASN | M64: =M65+M67+M69+M71+M73+M75+M77+M79+M83+M85+M87+M89+M91+M81 -> 7189335539 | N64: =N65+N67+N69+N71+N73+N75+N77+N79+N83+N85+N87+N89+N91+N81 -> 3366052889 | O64: =O66+O68+O70+O72+O74+O76+O78+O80+O82+O84+O86+O88+O90+O92 -> 885027785 | P64: =N64+O64 -> 4251080674 | Q64: =Q65+Q67+Q69+Q71+Q73+Q75+Q77+Q79+Q83+Q85+Q87+Q89+Q91+Q81 -> 0 | R64: =R65+R67+R69+R71+R73+R75+R77+R79+R83+R85+R87+R89+R91+R81 -> 0 | S64: =Q64+R64 -> 0 | T64: =T65+T67+T69+T71+T73+T75+T77+T79+T83+T85+T87+T89+T91+T81 -> 0 | U64: =U65+U67+U69+U71+U73+U75+U77+U79+U83+U85+U87+U89+U91+U81 -> 0 | V64: =T64+U64 -> 0 | W64: =P64+S64+V64 -> 4251080674 | X64: =M64-W64 -> 2938254865
A65: 1 | B65: 05 | C65: 01 | D65: 2 | E65: 02 | F65: 01 | G65: 05.01.01.01.01 | L65: Belanja Gaji Pokok ASN | M65: =M66 -> 4164689577 | N65: =N66 -> 2010457955 | O65: =O66 -> 628311500 | P65: =N65+O65 -> 2638769455 | Q65: =Q66 -> 0 | R65: =R66 -> 0 | S65: =Q65+R65 -> 0 | T65: =T66 -> 0 | U65: =U66 -> 0 | V65: =T65+U65 -> 0 | W65: =P65+S65+V65 -> 2638769455 | X65: =M65-W65 -> 1525920122
A66: 1 | B66: 05 | C66: 01 | D66: 2 | E66: 02 | L66: Belanja Gaji Pokok PNS | M66: 4164689577 | N66: 2010457955 | O66: =314315600+313995900 -> 628311500 | P66: =N66+O66 -> 2638769455 | Q66: 0 | R66: 0 | S66: =Q66+R66 -> 0 | T66: 0 | U66: 0 | V66: =T66+U66 -> 0 | W66: =P66+S66+V66 -> 2638769455 | X66: =M66-W66 -> 1525920122
A67: 1 | B67: 05 | C67: 01 | D67: 2 | E67: 02 | L67: Belanja Gaji Pokok PPPK | M67: =M68 -> 1298627375 | N67: =N68 -> 586575138 | O67: =O68 -> 35022481 | P67: =N67+O67 -> 621597619 | Q67: =Q68 -> 0 | R67: =R68 -> 0 | S67: =Q67+R67 -> 0 | T67: =T68 -> 0 | U67: =U68 -> 0 | V67: =T67+U67 -> 0 | W67: =P67+S67+V67 -> 621597619 | X67: =M67-W67 -> 677029756
A68: 1 | B68: 05 | C68: 01 | D68: 2 | E68: 02 | L68: Belanja Gaji Pokok PPPK | M68: 1298627375 | N68: 586575138 | O68: =18272600+16749881 -> 35022481 | P68: =N68+O68 -> 621597619 | Q68: 0 | R68: 0 | S68: =Q68+R68 -> 0 | T68: 0 | U68: 0 | V68: =T68+U68 -> 0 | W68: =P68+S68+V68 -> 621597619 | X68: =M68-W68 -> 677029756
A69: 1 | B69: 05 | C69: 01 | D69: 2 | E69: 02 | L69: Belanja Tunjangan Keluarga ASN | M69: =M70 -> 473916952 | N69: =N70 -> 225861000 | O69: =O70 -> 70962232 | P69: =N69+O69 -> 296823232 | Q69: =Q70 -> 0 | R69: =R70 -> 0 | S69: =Q69+R69 -> 0 | T69: =T70 -> 0 | U69: =U70 -> 0 | V69: =T69+U69 -> 0 | W69: =P69+S69+V69 -> 296823232 | X69: =M69-W69 -> 177093720
A70: 1 | B70: 05 | C70: 01 | D70: 2 | E70: 02 | L70: Belanja Tunjangan Keluarga PNS | M70: 473916952 | N70: 225861000 | O70: =35481116+35481116 -> 70962232 | P70: =N70+O70 -> 296823232 | Q70: 0 | R70: 0 | S70: =Q70+R70 -> 0 | T70: 0 | U70: 0 | V70: =T70+U70 -> 0 | W70: =P70+S70+V70 -> 296823232 | X70: =M70-W70 -> 177093720
A71: 1 | B71: 05 | C71: 01 | D71: 2 | E71: 02 | L71: Belanja Tunjangan Keluarga PPPK | M71: =M72 -> 124000000 | N71: =N72 -> 39845646 | O71: =O72 -> 3844126 | P71: =N71+O71 -> 43689772 | Q71: =Q72 -> 0 | R71: =R72 -> 0 | S71: =Q71+R71 -> 0 | T71: =T72 -> 0 | U71: =U72 -> 0 | V71: =T71+U71 -> 0 | W71: =P71+S71+V71 -> 43689772 | X71: =M71-W71 -> 80310228
A72: 1 | B72: 05 | C72: 01 | D72: 2 | E72: 02 | L72: Belanja Tunjangan Keluarga PPPK | M72: 124000000 | N72: 39845646 | O72: =2005634+1838492 -> 3844126 | P72: =N72+O72 -> 43689772 | Q72: 0 | R72: 0 | S72: =Q72+R72 -> 0 | T72: 0 | U72: 0 | V72: =T72+U72 -> 0 | W72: =P72+S72+V72 -> 43689772 | X72: =M72-W72 -> 80310228
A73: 1 | B73: 05 | C73: 01 | D73: 2 | E73: 02 | L73: Belanja Tunjangan Jabatan ASN | M73: =M74 -> 151999180 | N73: =N74 -> 70595000 | O73: =O74 -> 18930000 | P73: =N73+O73 -> 89525000 | Q73: =Q74 -> 0 | R73: =R74 -> 0 | S73: =Q73+R73 -> 0 | T73: =T74 -> 0 | U73: =U74 -> 0 | V73: =T73+U73 -> 0 | W73: =P73+S73+V73 -> 89525000 | X73: =M73-W73 -> 62474180
A74: 1 | B74: 05 | C74: 01 | D74: 2 | E74: 02 | L74: Belanja Tunjangan Jabatan PNS | M74: 151999180 | N74: 70595000 | O74: =9465000+9465000 -> 18930000 | P74: =N74+O74 -> 89525000 | Q74: 0 | R74: 0 | S74: =Q74+R74 -> 0 | T74: 0 | U74: 0 | V74: =T74+U74 -> 0 | W74: =P74+S74+V74 -> 89525000 | X74: =M74-W74 -> 62474180
A75: 1 | B75: 05 | C75: 01 | D75: 2 | E75: 02 | L75: Belanja Tunjangan Fungsional ASN | M75: =M76 -> 472444960 | N75: =N76 -> 235020000 | O75: =O76 -> 80940000 | P75: =N75+O75 -> 315960000 | Q75: =Q76 -> 0 | R75: =R76 -> 0 | S75: =Q75+R75 -> 0 | T75: =T76 -> 0 | U75: =U76 -> 0 | V75: =T75+U75 -> 0 | W75: =P75+S75+V75 -> 315960000 | X75: =M75-W75 -> 156484960
A76: 1 | B76: 05 | C76: 01 | D76: 2 | E76: 02 | L76: Belanja Tunjangan Fungsional PNS | M76: 472444960 | N76: 235020000 | O76: =40470000+40470000 -> 80940000 | P76: =N76+O76 -> 315960000 | Q76: 0 | R76: 0 | S76: =Q76+R76 -> 0 | T76: 0 | U76: 0 | V76: =T76+U76 -> 0 | W76: =P76+S76+V76 -> 315960000 | X76: =M76-W76 -> 156484960
A77: 1 | B77: 05 | C77: 01 | D77: 2 | E77: 02 | L77: Belanja Tunjangan Fungsional PPPK | M77: =M78 -> 0 | N77: =N78 -> 0 | O77: =O78 -> 0 | P77: =N77+O77 -> 0 | Q77: =Q78 -> 0 | R77: =R78 -> 0 | S77: =Q77+R77 -> 0 | T77: =T78 -> 0 | U77: =U78 -> 0 | V77: =T77+U77 -> 0 | W77: =P77+S77+V77 -> 0
A78: 1 | B78: 05 | C78: 01 | D78: 2 | E78: 02 | L78: Belanja Tunjangan Fungsional PPPK | M78: 0 | O78: 0 | P78: =N78+O78 -> 0 | R78: 0 | S78: =Q78+R78 -> 0 | U78: 0 | V78: =T78+U78 -> 0 | W78: =P78+S78+V78 -> 0
A79: 1 | B79: 05 | C79: 01 | D79: 2 | E79: 02 | L79: Belanja Tunjangan Fungsional Umum ASN | M79: =M80 -> 27842060 | N79: =N80 -> 10490000 | O79: =O80 -> 2160000 | P79: =N79+O79 -> 12650000 | Q79: =Q80 -> 0 | R79: =R80 -> 0 | S79: =Q79+R79 -> 0 | T79: =T80 -> 0 | U79: =U80 -> 0 | V79: =T79+U79 -> 0 | W79: =P79+S79+V79 -> 12650000 | X79: =M79-W79 -> 15192060
A80: 1 | B80: 05 | C80: 01 | D80: 2 | E80: 02 | L80: Belanja Tunjangan Fungsional Umum PNS | M80: 27842060 | N80: 10490000 | O80: =1080000+1080000 -> 2160000 | P80: =N80+O80 -> 12650000 | Q80: 0 | R80: 0 | S80: =Q80+R80 -> 0 | T80: 0 | U80: 0 | V80: =T80+U80 -> 0 | W80: =P80+S80+V80 -> 12650000 | X80: =M80-W80 -> 15192060
A81: 1 | B81: 05 | C81: 01 | D81: 2 | E81: 02 | L81: Belanja Tunjangan Fungsional Umum PPPK | M81: =M82 -> 94324060 | N81: =N82 -> 29818333 | O81: =O82 -> 2424583 | P81: =N81+O81 -> 32242916 | Q81: =Q82 -> 0 | R81: =R82 -> 0 | S81: =Q81+R81 -> 0 | T81: =T82 -> 0 | U81: =U82 -> 0 | V81: =T81+U81 -> 0 | W81: =P81+S81+V81 -> 32242916 | X81: =M81-W81 -> 62081144
A82: 1 | B82: 05 | C82: 01 | D82: 2 | E82: 02 | L82: Belanja Tunjangan Fungsional Umum PPPK | M82: 94324060 | N82: 29818333 | O82: =1265000+1159583 -> 2424583 | P82: =N82+O82 -> 32242916 | R82: 0 | S82: =Q82+R82 -> 0 | U82: 0 | V82: =T82+U82 -> 0 | W82: =P82+S82+V82 -> 32242916 | X82: =M82-W82 -> 62081144
A83: 1 | B83: 05 | C83: 01 | D83: 2 | E83: 02 | L83: Belanja Tunjangan Beras ASN | M83: =M84 -> 261000365 | N83: =N84 -> 122896740 | O83: =O84 -> 38672280 | P83: =N83+O83 -> 161569020 | Q83: =Q84 -> 0 | R83: =R84 -> 0 | S83: =Q83+R83 -> 0 | T83: =T84 -> 0 | U83: =U84 -> 0 | V83: =T83+U83 -> 0 | W83: =P83+S83+V83 -> 161569020 | X83: =M83-W83 -> 99431345
A84: 1 | B84: 05 | C84: 01 | D84: 2 | E84: 02 | L84: Belanja Tunjangan Beras PNS | M84: 261000365 | N84: 122896740 | O84: =19336140+19336140 -> 38672280 | P84: =N84+O84 -> 161569020 | Q84: 0 | R84: 0 | S84: =Q84+R84 -> 0 | T84: 0 | U84: 0 | V84: =T84+U84 -> 0 | W84: =P84+S84+V84 -> 161569020 | X84: =M84-W84 -> 99431345
A85: 1 | B85: 05 | C85: 01 | D85: 2 | E85: 02 | L85: Belanja Tunjangan Beras PPPK | M85: =M86 -> 98060772 | N85: =N86 -> 31949290 | O85: =O86 -> 2914905 | P85: =N85+O85 -> 34864195 | Q85: =Q86 -> 0 | R85: =R86 -> 0 | S85: =Q85+R85 -> 0 | T85: =T86 -> 0 | U85: =U86 -> 0 | V85: =T85+U85 -> 0 | W85: =P85+S85+V85 -> 34864195 | X85: =M85-W85 -> 63196577
A86: 1 | B86: 05 | C86: 01 | D86: 2 | E86: 02 | L86: Belanja Tunjangan Beras PPPK | M86: 98060772 | N86: 31949290 | O86: =1520820+1394085 -> 2914905 | P86: =N86+O86 -> 34864195 | Q86: 0 | R86: 0 | S86: =Q86+R86 -> 0 | T86: 0 | U86: 0 | V86: =T86+U86 -> 0 | W86: =P86+S86+V86 -> 34864195 | X86: =M86-W86 -> 63196577
A87: 1 | B87: 05 | C87: 01 | D87: 2 | E87: 02 | L87: Belanja Tunjangan PPh/Tunjangan Khusus ASN | M87: =M88 -> 22354148 | N87: =N88 -> 2510765 | O87: =O88 -> 836748 | P87: =N87+O87 -> 3347513 | Q87: =Q88 -> 0 | R87: =R88 -> 0 | S87: =Q87+R87 -> 0 | T87: =T88 -> 0 | U87: =U88 -> 0 | V87: =T87+U87 -> 0 | W87: =P87+S87+V87 -> 3347513 | X87: =M87-W87 -> 19006635
A88: 1 | B88: 05 | C88: 01 | D88: 2 | E88: 02 | L88: Belanja Tunjangan PPh/Tunjangan Khusus PNS | M88: 22354148 | N88: 2510765 | O88: =418374+418374 -> 836748 | P88: =N88+O88 -> 3347513 | Q88: 0 | R88: 0 | S88: =Q88+R88 -> 0 | T88: 0 | U88: 0 | V88: =T88+U88 -> 0 | W88: =P88+S88+V88 -> 3347513 | X88: =M88-W88 -> 19006635
A89: 1 | B89: 05 | C89: 01 | D89: 2 | E89: 02 | L89: Belanja Pembulatan Gaji ASN | M89: =M90 -> 55613 | N89: =N90 -> 26267 | O89: =O90 -> 8349 | P89: =N89+O89 -> 34616 | Q89: =Q90 -> 0 | R89: =R90 -> 0 | S89: =Q89+R89 -> 0 | T89: =T90 -> 0 | U89: =U90 -> 0 | V89: =T89+U89 -> 0 | W89: =P89+S89+V89 -> 34616 | X89: =M89-W89 -> 20997
A90: 1 | B90: 05 | C90: 01 | D90: 2 | E90: 02 | L90: Belanja Pembulatan Gaji PNS | M90: 55613 | N90: 26267 | O90: =3905+4444 -> 8349 | P90: =N90+O90 -> 34616 | Q90: 0 | R90: 0 | S90: =Q90+R90 -> 0 | T90: 0 | U90: 0 | V90: =T90+U90 -> 0 | W90: =P90+S90+V90 -> 34616 | X90: =M90-W90 -> 20997
A91: 1 | B91: 05 | C91: 01 | D91: 2 | E91: 02 | L91: Belanja Pembulatan Gaji PPPK | M91: =M92 -> 20477 | N91: =N92 -> 6755 | O91: =O92 -> 581 | P91: =N91+O91 -> 7336 | Q91: =Q92 -> 0 | R91: =R92 -> 0 | S91: =Q91+R91 -> 0 | T91: =T92 -> 0 | U91: =U92 -> 0 | V91: =T91+U91 -> 0 | W91: =P91+S91+V91 -> 7336 | X91: =M91-W91 -> 13141
A92: 1 | B92: 05 | C92: 01 | D92: 2 | E92: 02 | L92: Belanja Pembulatan Gaji PPPK | M92: 20477 | N92: 6755 | O92: =322+259 -> 581 | P92: =N92+O92 -> 7336 | Q92: 0 | R92: 0 | S92: =Q92+R92 -> 0 | T92: 0 | U92: 0 | V92: =T92+U92 -> 0 | W92: =P92+S92+V92 -> 7336 | X92: =M92-W92 -> 13141
A95: 1 | B95: 05 | C95: 01 | D95: 2 | E95: 02 | F95: 01 | G95: 05.01.01.02 | L95: Belanja Tambahan Penghasilan ASN | M95: =M96+M98+M100+M102+M104 -> 1525570830 | N95: =N96+N98+N100+N102+N104 -> 829311718 | O95: =O96+O98+O100+O102+O104 -> 174100374 | P95: =P96+P98+P100+P102+P104 -> 1003412092 | Q95: =Q96+Q98+Q100+Q102+Q104 -> 0 | R95: =R96+R98+R100+R102+R104 -> 0 | S95: =S96+S98+S100+S102+S104 -> 0 | T95: =T96+T98+T100+T102+T104 -> 0 | ... V95: =V96+V98+V100+V102+V104 -> 0 | W95: =P95+S95+V95 -> 1003412092 | X95: =M95-W95 -> 522158738
A96: 1 | B96: 05 | C96: 01 | D96: 2 | E96: 02 | F96: 01 | G96: 05.01.01.02,01 | L96: Tambahan Penghasilan Berdasarkan beban Kerja ASN | M96: =M97 -> 976288320 | N96: =N97 -> 599846134 | O96: =O97 -> 125721299 | P96: =P97 -> 725567433 | Q96: =Q97 -> 0 | R96: =R97 -> 0 | S96: =S97 -> 0 | T96: =T97 -> 0 | ... V96: =V97 -> 0 | W96: =P96+S96+V96 -> 725567433 | X96: =M96-W96 -> 250720887
A97: 1 | B97: 05 | C97: 01 | D97: 2 | E97: 02 | F97: 01 | G97: 05.01.01.02,01,0001 | L97: Tambahan Penghasilan Berdasarkan beban Kerja PNS | M97: 976288320 | N97: 599846134 | O97: 125721299 | P97: =N97+O97 -> 725567433 | Q97: 0 | R97: 0 | S97: =Q97+R97 -> 0 | T97: 0 | U97: 0 | V97: =T97+U97 -> 0 | W97: =P97+S97+V97 -> 725567433 | X97: =M97-W97 -> 250720887
A98: 1 | B98: 05 | C98: 01 | D98: 2 | E98: 02 | F98: 01 | G98: 05.01.01.02,01 | L98: Tambahan Penghasilan Berdasarkan Beban Kerja PPPK | M98: =M99 -> 0 | N98: =N99 -> 0 | O98: =O99 -> 0 | P98: =P99 -> 0 | Q98: =Q99 -> 0 | R98: =R99 -> 0 | S98: =S99 -> 0 | T98: =T99 -> 0 | ... V98: =V99 -> 0 | W98: =P98+S98+V98 -> 0 | X98: =M98-W98 -> 0
A99: 1 | B99: 05 | C99: 01 | D99: 2 | E99: 02 | F99: 01 | G99: 05.01.01.02,01,0002 | L99: Tambahan Penghasilan Berdasarkan Beban Kerja PPPK | M99: 0 | N99: 0 | P99: =N99+O99 -> 0 | Q99: 0 | S99: =Q99+R99 -> 0 | T99: 0 | V99: =T99+U99 -> 0 | W99: =P99+S99+V99 -> 0 | X99: =M99-W99 -> 0
A100: 1 | B100: 05 | C100: 01 | D100: 2 | E100: 02 | F100: 01 | G100: 05.01.01.02,03 | L100: Tambahan Penghasilan Berdasarkan Kondisi Kerja ASN | M100: =M101 -> 143235400 | N100: =N101 -> 31472569 | O100: =O101 -> 6356257 | P100: =P101 -> 37828826 | Q100: =Q101 -> 0 | R100: =R101 -> 0 | S100: =S101 -> 0 | T100: =T101 -> 0 | ... V100: =V101 -> 0 | W100: =P100+S100+V100 -> 37828826 | X100: =M100-W100 -> 105406574
A101: 1 | B101: 05 | C101: 01 | D101: 2 | E101: 02 | F101: 01 | G101: 05.01.01.02,03,0001 | L101: Tambahan Penghasilan Berdasarkan Kondisi Kerja PNS | M101: 143235400 | N101: 31472569 | O101: 6356257 | P101: =N101+O101 -> 37828826 | Q101: 0 | R101: 0 | S101: =Q101+R101 -> 0 | T101: 0 | U101: 0 | V101: =T101+U101 -> 0 | W101: =P101+S101+V101 -> 37828826 | X101: =M101-W101 -> 105406574
A102: 1 | B102: 05 | C102: 01 | D102: 2 | E102: 02 | F102: 01 | G102: 05.01.01.02,04 | L102: Tambahan Penghasilan Berdasarkan Kelangkaan Profesi ASN | M102: =M103 -> 0 | N102: =N103 -> 0 | O102: =O103 -> 0 | P102: =P103 -> 0 | Q102: =Q103 -> 0 | R102: =R103 -> 0 | S102: =S103 -> 0 | T102: =T103 -> 0 | ... V102: =V103 -> 0 | W102: =P102+S102+V102 -> 0 | X102: =M102-W102 -> 0
A103: 1 | B103: 05 | C103: 01 | D103: 2 | E103: 02 | F103: 01 | G103: 05.01.01.02,04,0001 | L103: Tambahan Penghasilan Berdasarkan Kelangkaan Profesi PNS | M103: 0 | N103: 0 | O103: 0 | P103: 0 | Q103: 0 | R103: 0 | S103: 0 | T103: 0 | U103: 0 | V103: 0 | W103: =P103+S103+V103 -> 0 | X103: =M103-W103 -> 0
A104: 1 | B104: 05 | C104: 01 | D104: 2 | E104: 02 | F104: 01 | G104: 05.01.01.02,05 | L104: Tambahan Penghasilan Berdasarkan Prestasi Kerja ASN | M104: =M105 -> 406047110 | N104: =N105 -> 197993015 | O104: =O105 -> 42022818 | P104: =P105 -> 240015833 | Q104: =Q105 -> 0 | R104: =R105 -> 0 | S104: =S105 -> 0 | T104: =T105 -> 0 | ... V104: =V105 -> 0 | W104: =P104+S104+V104 -> 240015833 | X104: =M104-W104 -> 166031277
A105: 1 | B105: 05 | C105: 01 | D105: 2 | E105: 02 | F105: 01 | G105: 05.01.01.02,04,0001 | L105: Tambahan Penghasilan Berdasarkan Prestasi Kerja PNS | M105: 406047110 | N105: 197993015 | O105: 42022818 | P105: =N105+O105 -> 240015833 | Q105: 0 | R105: 0 | S105: =Q105+R105 -> 0 | T105: 0 | U105: 0 | V105: =T105+U105 -> 0 | W105: =P105+S105+V105 -> 240015833 | X105: =M105-W105 -> 166031277
A107: 1 | B107: 05 | C107: 01 | D107: 2 | E107: 02 | F107: 02 | L107: Penyedian Administrasi Pelaksanaan Tugas ASN | M107: =M108 -> 4014380000 | N107: =N108 -> 0 | O107: =O108 -> 0 | P107: =N107+O107 -> 0 | Q107: =Q108 -> 1750370000 | R107: =R108 -> 494700000 | S107: =Q107+R107 -> 2245070000 | T107: =T108 -> 0 | U107: =U108 -> 0 | V107: =T107+U107 -> 0 | W107: =P107+S107+V107 -> 2245070000 | X107: =M107-W107 -> 1769310000
A108: 1 | B108: 05 | C108: 01 | D108: 2 | E108: 02 | F108: 02 | G108: 05.01 | L108: Belanja Operasi | M108: =M109 -> 4014380000 | N108: =N109 -> 0 | O108: =O109 -> 0 | P108: =N108+O108 -> 0 | Q108: =Q109 -> 1750370000 | R108: =R109 -> 494700000 | S108: =Q108+R108 -> 2245070000 | T108: =T109 -> 0 | U108: =U109 -> 0 | V108: =T108+U108 -> 0 | W108: =P108+S108+V108 -> 2245070000 | X108: =M108-W108 -> 1769310000
A109: 1 | B109: 05 | C109: 01 | D109: 2 | E109: 02 | F109: 02 | G109: 05.01.02 | L109: Belanja Barang dan Jasa | M109: =M110 -> 4014380000 | N109: =N110 -> 0 | O109: =O110 -> 0 | P109: =N109+O109 -> 0 | Q109: =Q110 -> 1750370000 | R109: =R110 -> 494700000 | S109: =Q109+R109 -> 2245070000 | T109: =T110 -> 0 | U109: =U110 -> 0 | V109: =T109+U109 -> 0 | W109: =P109+S109+V109 -> 2245070000 | X109: =M109-W109 -> 1769310000
A110: 1 | B110: 05 | C110: 01 | D110: 2 | E110: 02 | F110: 02 | G110: 05.01.02.02 | L110: Belanja Jasa | M110: =M111 -> 4014380000 | N110: =N111 -> 0 | O110: =O111 -> 0 | P110: =N110+O110 -> 0 | Q110: =Q111 -> 1750370000 | R110: =R111 -> 494700000 | S110: =Q110+R110 -> 2245070000 | T110: =T111 -> 0 | U110: =U111 -> 0 | V110: =T110+U110 -> 0 | W110: =P110+S110+V110 -> 2245070000 | X110: =M110-W110 -> 1769310000
A111: 1 | B111: 05 | C111: 01 | D111: 2 | E111: 02 | F111: 02 | G111: 05.01.02.02.01 | L111: Belanja Jasa Kantor | M111: =SUM(M112:M117) -> 4014380000 | N111: =SUM(N112:N115) -> 0 | O111: =SUM(O112:O115) -> 0 | P111: =N111+O111 -> 0 | Q111: =SUM(Q112:Q117) -> 1750370000 | R111: =SUM(R112:R117) -> 494700000 | S111: =Q111+R111 -> 2245070000 | T111: =SUM(T112:T115) -> 0 | U111: =SUM(U112:U115) -> 0 | V111: =T111+U111 -> 0 | W111: =P111+S111+V111 -> 2245070000 | X111: =M111-W111 -> 1769310000
A112: 1 | B112: 05 | C112: 01 | D112: 2 | E112: 02 | F112: 02 | G112: 05.01.02.02.01.0017 | L112: Belanja Jasa Tenaga Ketenteraman, Ketertiban Umum, dan Perlindungan Masyarakat | M112: 11900000 | N112: 0 | O112: 0 | P112: =N112+O112 -> 0 | Q112: 11900000 | R112: 0 | S112: =Q112+R112 -> 11900000 | T112: 0 | U112: 0 | V112: =T112+U112 -> 0 | W112: =P112+S112+V112 -> 11900000 | X112: =M112-W112 -> 0
A113: 1 | B113: 05 | C113: 01 | D113: 2 | E113: 02 | F113: 02 | G113: 05.01.02.02.01.0080 | L113: Belanja Honorarium Penanggungjawab Pengelola Keuangan | M113: 28080000 | N113: 0 | O113: 0 | P113: =N113+O113 -> 0 | Q113: 7020000 | R113: 0 | S113: =Q113+R113 -> 7020000 | T113: 0 | U113: 0 | V113: =T113+U113 -> 0 | W113: =P113+S113+V113 -> 7020000 | X113: =M113-W113 -> 21060000
A114: 1 | B114: 05 | C114: 01 | D114: 2 | E114: 02 | F114: 02 | G114: 05.01.02.02.01.0087 | L114: Belanja Jasa Pegawai Pemerintah dengan Perjanjian Kerja (PPPK) Paruh Waktu pada Jabatan Pengelola Umum Operasional | M114: 19900000 | N114: 0 | O114: 0 | P114: =N114+O114 -> 0 | Q114: 7225000 | R114: =1700000+850000 -> 2550000 | S114: =Q114+R114 -> 9775000 | T114: 0 | U114: 0 | V114: =T114+U114 -> 0 | W114: =P114+S114+V114 -> 9775000 | X114: =M114-W114 -> 10125000
...
